{"text_format":"1","workbook":"xlsx","n_sheets":16,"sheets":["Counties","DIRECTIONS","Food Bank & Summary ","Pantry Template","START","Pantry 1","Pantry 2","Pantry 3","Pantry 4","Pantry 5","Pantry 6","Pantry 7","Pantry 8","Pantry 9","Pantry 10","END"],"not_rendered":{"charts":0,"images":2,"macros":1,"external_links":0,"defined_names":1,"comments":0,"pivot_tables":0},"unopened":[],"bounds":{"document_bytes":16777216,"sheet_cells":100000,"rows_first":2000,"rows_last":500,"rows_between":2000,"halvings":0,"cell_chars":16384,"cell_head_chars":4096},"cells_cut":0,"cells_raw":0,"read":"whole","date_system":"1900"}

{"sheet":"Counties","index":0,"n_rows":72,"n_cols":1,"rows_kept":72,"cut":false,"hidden":true,"merged":[]}
["Adams"]
["Ashland"]
["Barron"]
["Bayfield"]
["Brown"]
["Buffalo"]
["Burnett"]
["Calumet"]
["Chippewa"]
["Clark"]
["Columbia"]
["Crawford"]
["Dane"]
["Dodge"]
["Door"]
["Douglas"]
["Dunn"]
["Eau Claire"]
["Florence"]
["Fond du Lac"]
["Forest"]
["Grant"]
["Green"]
["Green Lake"]
["Iowa"]
["Iron"]
["Jackson"]
["Jefferson"]
["Juneau"]
["Kenosha"]
["Kewaunee"]
["La Crosse"]
["Lafayette"]
["Langlade"]
["Lincoln"]
["Manitowoc"]
["Marathon"]
["Marinette"]
["Marquette"]
["Menominee"]
["Milwaukee"]
["Monroe"]
["Oconto"]
["Oneida"]
["Winnebago"]
["Ozaukee"]
["Pepin"]
["Pierce"]
["Polk"]
["Portage"]
["Price"]
["Racine"]
["Richland"]
["Rock"]
["Rusk"]
["Saint Croix"]
["Sauk"]
["Sawyer"]
["Shawano"]
["Sheboygan"]
["Taylor"]
["Trempealeau"]
["Vernon"]
["Vilas"]
["Walworth "]
["Washburn"]
["Washington"]
["Waukesha"]
["Waupaca"]
["Waushara"]
["Winnebago"]
["Wood"]

{"sheet":"DIRECTIONS","index":1,"n_rows":25,"n_cols":7,"rows_kept":25,"cut":false,"hidden":false,"merged":[[0,0,0,12],[6,1,7,12],[9,2,10,12]]}
["Budget Summary Directions"]
[1,"Save as: FoodBank(orPantry)Name_Budget",null,null,null,null,"Save to your own directory to attach to completed application."]
[null,"Save early to prevent loss of data. We want all files to have consistent names. Thank you!"]
[2,"Click on the  Food Bank & Summary worksheet tab. (Green)"]
[3,"Add detail for the Food Bank budget requests. These are food bank expenses."]
[null,"Note: Do not add rows except as indicated in 3. Summary equations are dependent on fields not moving."]
[4,"To add a row in each budget section (Travel, Equipment, Supplies, Personnel), tab after the last row before the total row in that section."]
[]
[null,"Note: Under Travel Detail"]
[null,null,"Indicate Mileage as \"Mileage: (add purpose)\"  in the detail line, # of miles as quantity and $0.51 as Item Cost (mileage rate)"]
[]
[]
[5,"Click on Pantry 1 (purple) to add pantry detail. These are expenses for specific pantries."]
[null,null,"Adding the name of the pantry under Pantry Details at the top  will update the worksheet name."]
[6,"Continue to add pantry detail - one worksheet per pantry. There are 10 worksheets started in this template."]
[null,null,"Make sure to change the Pantry name from Pantry 1, 2…. To the actual name."]
[7,"To ADD additional Pantry worksheets."]
[null,null,"Right-click on Pantry Template"]
[null,null,"Select Move or Copy"]
[null,null,"Check the Copy box at the bottom of the window."]
[null,null,"Select (move to end)"]
[null,null,"Click Ok."]
[null,null,"Make sure to change the Pantry name at the top."]
[8,"Save again before closing."]
[9,"Add as an attachment to the application."]

{"sheet":"Food Bank & Summary ","index":2,"n_rows":65,"n_cols":8,"rows_kept":65,"cut":false,"hidden":false,"merged":[[15,5,17,6],[7,5,8,6],[1,1,1,3],[2,1,2,3],[10,2,10,3],[9,1,9,4],[8,1,8,4],[12,1,12,4],[13,1,13,4]]}
["Food Bank Details"]
["Food Bank Name:",null,null,null,"(will update tab name below)"]
["Street Address:"]
["City:",null,null,"State: ","WI","Zip:"]
["Contact"]
["First Name:",null,null,"Last Name:"]
["Phone:",null,null,"Email:"]
["Demographics",null,null,null,null,"Food Bank - Budget Summary",null,"Summary will autopopulate"]
["County (location of Bank):"]
["Counties Served:",null,null,null,null,"Travel",{"$f":"Table27[[#Totals],[Total]]","v":0}]
["Annual Households served:",null,null,null,null,"Equipment",{"$f":"Table38[[#Totals],[Total]]","v":0}]
["Annual Pounds of Food Distributed:",null,null,null,null,"Supplies",{"$f":"Table49[[#Totals],[Total]]","v":0}]
["Partnerships:",null,null,null,null,"Personnel",{"$f":"Table510[[#Totals],[Total]]","v":0}]
["Tribal Connections:",null,null,null,null,"Total",{"$f":"SUM(G10:G13)","v":0}]
["Budget","Tab before total row to add rows, as needed"]
["Travel Detail","Quantity","Item Cost","Total",null,"Associated Pantries - Budget Summary"]
[null,null,null,{"$f":"Table27[[#This Row],[Quantity]]*Table27[[#This Row],[Item Cost]]","v":0},null,null,null,"Summary will autopopulate"]
[null,null,null,{"$f":"Table27[[#This Row],[Quantity]]*Table27[[#This Row],[Item Cost]]","v":0}]
[null,null,null,{"$f":"Table27[[#This Row],[Quantity]]*Table27[[#This Row],[Item Cost]]","v":0},null,"Travel",{"$f":"SUM(START:END!G19)","v":0}]
[null,null,null,{"$f":"Table27[[#This Row],[Quantity]]*Table27[[#This Row],[Item Cost]]","v":0},null,"Equipment",{"$f":"SUM(START:END!G20)","v":0}]
[null,null,null,{"$f":"Table27[[#This Row],[Quantity]]*Table27[[#This Row],[Item Cost]]","v":0},null,"Supplies",{"$f":"SUM(START:END!G21)","v":0}]
[null,null,null,{"$f":"Table27[[#This Row],[Quantity]]*Table27[[#This Row],[Item Cost]]","v":0},null,"Personnel",{"$f":"SUM(START:END!G22)","v":0}]
[null,null,null,{"$f":"Table27[[#This Row],[Quantity]]*Table27[[#This Row],[Item Cost]]","v":0},null,"Total",{"$f":"SUM(START:END!G23)","v":0}]
[null,null,null,{"$f":"Table27[[#This Row],[Quantity]]*Table27[[#This Row],[Item Cost]]","v":0}]
[null,null,null,{"$f":"Table27[[#This Row],[Quantity]]*Table27[[#This Row],[Item Cost]]","v":0}]
[null,null,null,{"$f":"Table27[[#This Row],[Quantity]]*Table27[[#This Row],[Item Cost]]","v":0}]
["Total",null,null,{"$f":"SUBTOTAL(109,Table27[Total])","v":0}]
["Equipment Detail","Quantity","Item Cost","Total"]
[null,null,null,{"$f":"Table38[[#This Row],[Quantity]]*Table38[[#This Row],[Item Cost]]","v":0}]
[null,null,null,{"$f":"Table38[[#This Row],[Quantity]]*Table38[[#This Row],[Item Cost]]","v":0}]
[null,null,null,{"$f":"Table38[[#This Row],[Quantity]]*Table38[[#This Row],[Item Cost]]","v":0}]
[null,null,null,{"$f":"Table38[[#This Row],[Quantity]]*Table38[[#This Row],[Item Cost]]","v":0}]
[null,null,null,{"$f":"Table38[[#This Row],[Quantity]]*Table38[[#This Row],[Item Cost]]","v":0}]
[null,null,null,{"$f":"Table38[[#This Row],[Quantity]]*Table38[[#This Row],[Item Cost]]","v":0}]
[null,null,null,{"$f":"Table38[[#This Row],[Quantity]]*Table38[[#This Row],[Item Cost]]","v":0}]
[null,null,null,{"$f":"Table38[[#This Row],[Quantity]]*Table38[[#This Row],[Item Cost]]","v":0}]
[null,null,null,{"$f":"Table38[[#This Row],[Quantity]]*Table38[[#This Row],[Item Cost]]","v":0}]
[null,null,null,{"$f":"Table38[[#This Row],[Quantity]]*Table38[[#This Row],[Item Cost]]","v":0}]
["Total",null,null,{"$f":"SUBTOTAL(109,Table38[Total])","v":0}]
["Supply Detail","Quantity","Item Cost","Total"]
[null,null,null,{"$f":"Table49[[#This Row],[Quantity]]*Table49[[#This Row],[Item Cost]]","v":0}]
[null,null,null,{"$f":"Table49[[#This Row],[Quantity]]*Table49[[#This Row],[Item Cost]]","v":0}]
[null,null,null,{"$f":"Table49[[#This Row],[Quantity]]*Table49[[#This Row],[Item Cost]]","v":0}]
[null,null,null,{"$f":"Table49[[#This Row],[Quantity]]*Table49[[#This Row],[Item Cost]]","v":0}]
[null,null,null,{"$f":"Table49[[#This Row],[Quantity]]*Table49[[#This Row],[Item Cost]]","v":0}]
[null,null,null,{"$f":"Table49[[#This Row],[Quantity]]*Table49[[#This Row],[Item Cost]]","v":0}]
[null,null,null,{"$f":"Table49[[#This Row],[Quantity]]*Table49[[#This Row],[Item Cost]]","v":0}]
[null,null,null,{"$f":"Table49[[#This Row],[Quantity]]*Table49[[#This Row],[Item Cost]]","v":0}]
[null,null,null,{"$f":"Table49[[#This Row],[Quantity]]*Table49[[#This Row],[Item Cost]]","v":0}]
[null,null,null,{"$f":"Table49[[#This Row],[Quantity]]*Table49[[#This Row],[Item Cost]]","v":0}]
[null,null,null,{"$f":"Table49[[#This Row],[Quantity]]*Table49[[#This Row],[Item Cost]]","v":0}]
["Total",null,null,{"$f":"SUBTOTAL(109,Table49[Total])","v":0}]
["Personnel Detail","Hours","Wage + Benefits","Total"]
[null,null,null,{"$f":"Table510[[#This Row],[Hours]]*Table510[[#This Row],[Wage + Benefits]]","v":0}]
[null,null,null,{"$f":"Table510[[#This Row],[Hours]]*Table510[[#This Row],[Wage + Benefits]]","v":0}]
[null,null,null,{"$f":"Table510[[#This Row],[Hours]]*Table510[[#This Row],[Wage + Benefits]]","v":0}]
[null,null,null,{"$f":"Table510[[#This Row],[Hours]]*Table510[[#This Row],[Wage + Benefits]]","v":0}]
[null,null,null,{"$f":"Table510[[#This Row],[Hours]]*Table510[[#This Row],[Wage + Benefits]]","v":0}]
[null,null,null,{"$f":"Table510[[#This Row],[Hours]]*Table510[[#This Row],[Wage + Benefits]]","v":0}]
[null,null,null,{"$f":"Table510[[#This Row],[Hours]]*Table510[[#This Row],[Wage + Benefits]]","v":0}]
[null,null,null,{"$f":"Table510[[#This Row],[Hours]]*Table510[[#This Row],[Wage + Benefits]]","v":0}]
[null,null,null,{"$f":"Table510[[#This Row],[Hours]]*Table510[[#This Row],[Wage + Benefits]]","v":0}]
[null,null,null,{"$f":"Table510[[#This Row],[Hours]]*Table510[[#This Row],[Wage + Benefits]]","v":0}]
[null,null,null,{"$f":"Table510[[#This Row],[Hours]]*Table510[[#This Row],[Wage + Benefits]]","v":0}]
["Total",null,null,{"$f":"SUBTOTAL(109,Table510[Total])","v":0}]

{"sheet":"Pantry Template","index":3,"n_rows":66,"n_cols":7,"rows_kept":66,"cut":false,"hidden":false,"merged":[[1,1,1,3],[2,1,2,3],[10,2,10,3],[12,1,12,3],[13,1,13,3],[8,1,8,2]]}
["Pantry Details"]
["Pantry Name:"]
["Street Address:"]
["City:",null,null,"State: ","WI","Zip:"]
["Contact"]
["First Name:",null,null,"Last Name:"]
["Phone:",null,null,"Email:"]
["Demographics"]
["County (location of Pantry):"]
["Counties Served:"]
["Annual Households served:"]
["Annual Pounds of Food Distributed:"]
["Partnerships:"]
["Tribal Connections:"]
["Budget","Tab before total row to add rows, as needed"]
["Travel Detail","Quantity","Item Cost","Total"]
[null,1,5000,{"$f":"Table2151923[[#This Row],[Quantity]]*Table2151923[[#This Row],[Item Cost]]","v":5000}]
[null,null,null,{"$f":"Table2151923[[#This Row],[Quantity]]*Table2151923[[#This Row],[Item Cost]]","v":0},null,"Budget Summary"]
[null,null,null,{"$f":"Table2151923[[#This Row],[Quantity]]*Table2151923[[#This Row],[Item Cost]]","v":0},null,"Travel",{"$f":"Table2151923[[#Totals],[Total]]","v":5000}]
[null,null,null,{"$f":"Table2151923[[#This Row],[Quantity]]*Table2151923[[#This Row],[Item Cost]]","v":0},null,"Equipment",{"$f":"Table3162024[[#Totals],[Total]]","v":5000}]
[null,null,null,{"$f":"Table2151923[[#This Row],[Quantity]]*Table2151923[[#This Row],[Item Cost]]","v":0},null,"Supplies",{"$f":"Table4172125[[#Totals],[Total]]","v":5000}]
[null,null,null,{"$f":"Table2151923[[#This Row],[Quantity]]*Table2151923[[#This Row],[Item Cost]]","v":0},null,"Personnel",{"$f":"Table5182226[[#Totals],[Total]]","v":5000}]
[null,null,null,{"$f":"Table2151923[[#This Row],[Quantity]]*Table2151923[[#This Row],[Item Cost]]","v":0},null,"Total",{"$f":"SUM(G19:G22)","v":20000}]
[null,null,null,{"$f":"Table2151923[[#This Row],[Quantity]]*Table2151923[[#This Row],[Item Cost]]","v":0}]
[null,null,null,{"$f":"Table2151923[[#This Row],[Quantity]]*Table2151923[[#This Row],[Item Cost]]","v":0}]
[null,null,null,{"$f":"Table2151923[[#This Row],[Quantity]]*Table2151923[[#This Row],[Item Cost]]","v":0}]
[null,null,null,{"$f":"Table2151923[[#This Row],[Quantity]]*Table2151923[[#This Row],[Item Cost]]","v":0}]
["Total",null,null,{"$f":"SUBTOTAL(109,Table2151923[Total])","v":5000}]
["Equipment Detail","Quantity","Item Cost","Total"]
[null,1,5000,{"$f":"Table3162024[[#This Row],[Quantity]]*Table3162024[[#This Row],[Item Cost]]","v":5000}]
[null,null,null,{"$f":"Table3162024[[#This Row],[Quantity]]*Table3162024[[#This Row],[Item Cost]]","v":0}]
[null,null,null,{"$f":"Table3162024[[#This Row],[Quantity]]*Table3162024[[#This Row],[Item Cost]]","v":0}]
[null,null,null,{"$f":"Table3162024[[#This Row],[Quantity]]*Table3162024[[#This Row],[Item Cost]]","v":0}]
[null,null,null,{"$f":"Table3162024[[#This Row],[Quantity]]*Table3162024[[#This Row],[Item Cost]]","v":0}]
[null,null,null,{"$f":"Table3162024[[#This Row],[Quantity]]*Table3162024[[#This Row],[Item Cost]]","v":0}]
[null,null,null,{"$f":"Table3162024[[#This Row],[Quantity]]*Table3162024[[#This Row],[Item Cost]]","v":0}]
[null,null,null,{"$f":"Table3162024[[#This Row],[Quantity]]*Table3162024[[#This Row],[Item Cost]]","v":0}]
[null,null,null,{"$f":"Table3162024[[#This Row],[Quantity]]*Table3162024[[#This Row],[Item Cost]]","v":0}]
[null,null,null,{"$f":"Table3162024[[#This Row],[Quantity]]*Table3162024[[#This Row],[Item Cost]]","v":0}]
["Total",null,null,{"$f":"SUBTOTAL(109,Table3162024[Total])","v":5000}]
["Supply Detail","Quantity","Item Cost","Total"]
[null,1,5000,{"$f":"Table4172125[[#This Row],[Quantity]]*Table4172125[[#This Row],[Item Cost]]","v":5000}]
[null,null,null,{"$f":"Table4172125[[#This Row],[Quantity]]*Table4172125[[#This Row],[Item Cost]]","v":0}]
[null,null,null,{"$f":"Table4172125[[#This Row],[Quantity]]*Table4172125[[#This Row],[Item Cost]]","v":0}]
[null,null,null,{"$f":"Table4172125[[#This Row],[Quantity]]*Table4172125[[#This Row],[Item Cost]]","v":0}]
[null,null,null,{"$f":"Table4172125[[#This Row],[Quantity]]*Table4172125[[#This Row],[Item Cost]]","v":0}]
[null,null,null,{"$f":"Table4172125[[#This Row],[Quantity]]*Table4172125[[#This Row],[Item Cost]]","v":0}]
[null,null,null,{"$f":"Table4172125[[#This Row],[Quantity]]*Table4172125[[#This Row],[Item Cost]]","v":0}]
[null,null,null,{"$f":"Table4172125[[#This Row],[Quantity]]*Table4172125[[#This Row],[Item Cost]]","v":0}]
[null,null,null,{"$f":"Table4172125[[#This Row],[Quantity]]*Table4172125[[#This Row],[Item Cost]]","v":0}]
[null,null,null,{"$f":"Table4172125[[#This Row],[Quantity]]*Table4172125[[#This Row],[Item Cost]]","v":0}]
[null,null,null,{"$f":"Table4172125[[#This Row],[Quantity]]*Table4172125[[#This Row],[Item Cost]]","v":0}]
["Total",null,null,{"$f":"SUBTOTAL(109,Table4172125[Total])","v":5000}]
["Personnel Detail","Hours","Wage + Benefits","Total"]
[null,1,5000,{"$f":"Table5182226[[#This Row],[Hours]]*Table5182226[[#This Row],[Wage + Benefits]]","v":5000}]
[null,null,null,{"$f":"Table5182226[[#This Row],[Hours]]*Table5182226[[#This Row],[Wage + Benefits]]","v":0}]
[null,null,null,{"$f":"Table5182226[[#This Row],[Hours]]*Table5182226[[#This Row],[Wage + Benefits]]","v":0}]
[null,null,null,{"$f":"Table5182226[[#This Row],[Hours]]*Table5182226[[#This Row],[Wage + Benefits]]","v":0}]
[null,null,null,{"$f":"Table5182226[[#This Row],[Hours]]*Table5182226[[#This Row],[Wage + Benefits]]","v":0}]
[null,null,null,{"$f":"Table5182226[[#This Row],[Hours]]*Table5182226[[#This Row],[Wage + Benefits]]","v":0}]
[null,null,null,{"$f":"Table5182226[[#This Row],[Hours]]*Table5182226[[#This Row],[Wage + Benefits]]","v":0}]
[null,null,null,{"$f":"Table5182226[[#This Row],[Hours]]*Table5182226[[#This Row],[Wage + Benefits]]","v":0}]
[null,null,null,{"$f":"Table5182226[[#This Row],[Hours]]*Table5182226[[#This Row],[Wage + Benefits]]","v":0}]
[null,null,null,{"$f":"Table5182226[[#This Row],[Hours]]*Table5182226[[#This Row],[Wage + Benefits]]","v":0}]
[null,null,null,{"$f":"Table5182226[[#This Row],[Hours]]*Table5182226[[#This Row],[Wage + Benefits]]","v":0}]
["Total",null,null,{"$f":"SUBTOTAL(109,Table5182226[Total])","v":5000}]

{"sheet":"START","index":4,"n_rows":65,"n_cols":7,"rows_kept":65,"cut":false,"hidden":true,"merged":[[1,1,1,3],[2,1,2,3],[9,2,9,3],[11,1,11,3],[12,1,12,3]]}
["Pantry Details"]
["Pantry Name:","START"]
["Street Address:"]
["City:",null,null,"State: ","WI","Zip:"]
["Contact"]
["First Name:",null,null,"Last Name:"]
["Phone:",null,null,"Email:"]
["Demographics"]
["County:"]
["Annual Households served:"]
["Annual Pounds of Food Distributed:"]
["Partnerships:"]
["Tribal Connections:"]
["Budget","Tab before total row to add rows, as needed"]
["Travel Detail","Quantity","Item Cost","Total"]
[null,null,null,{"$f":"Table215192331[[#This Row],[Quantity]]*Table215192331[[#This Row],[Item Cost]]","v":0},null,"Budget Summary"]
[null,null,null,{"$f":"Table215192331[[#This Row],[Quantity]]*Table215192331[[#This Row],[Item Cost]]","v":0},null,"Travel",{"$f":"Table215192331[[#Totals],[Total]]","v":0}]
[null,null,null,{"$f":"Table215192331[[#This Row],[Quantity]]*Table215192331[[#This Row],[Item Cost]]","v":0},null,"Equipment",{"$f":"Table316202432[[#Totals],[Total]]","v":0}]
[null,null,null,{"$f":"Table215192331[[#This Row],[Quantity]]*Table215192331[[#This Row],[Item Cost]]","v":0},null,"Supplies",{"$f":"Table417212533[[#Totals],[Total]]","v":0}]
[null,null,null,{"$f":"Table215192331[[#This Row],[Quantity]]*Table215192331[[#This Row],[Item Cost]]","v":0},null,"Personnel",{"$f":"Table518222634[[#Totals],[Total]]","v":0}]
[null,null,null,{"$f":"Table215192331[[#This Row],[Quantity]]*Table215192331[[#This Row],[Item Cost]]","v":0},null,"Total",{"$f":"SUM(G17:G20)","v":0}]
[null,null,null,{"$f":"Table215192331[[#This Row],[Quantity]]*Table215192331[[#This Row],[Item Cost]]","v":0}]
[null,null,null,{"$f":"Table215192331[[#This Row],[Quantity]]*Table215192331[[#This Row],[Item Cost]]","v":0}]
[null,null,null,{"$f":"Table215192331[[#This Row],[Quantity]]*Table215192331[[#This Row],[Item Cost]]","v":0}]
[null,null,null,{"$f":"Table215192331[[#This Row],[Quantity]]*Table215192331[[#This Row],[Item Cost]]","v":0}]
[null,null,null,{"$f":"Table215192331[[#This Row],[Quantity]]*Table215192331[[#This Row],[Item Cost]]","v":0}]
["Total",null,null,{"$f":"SUBTOTAL(109,Table215192331[Total])","v":0}]
["Equipment Detail","Quantity","Item Cost","Total"]
[null,null,null,{"$f":"Table316202432[[#This Row],[Quantity]]*Table316202432[[#This Row],[Item Cost]]","v":0}]
[null,null,null,{"$f":"Table316202432[[#This Row],[Quantity]]*Table316202432[[#This Row],[Item Cost]]","v":0}]
[null,null,null,{"$f":"Table316202432[[#This Row],[Quantity]]*Table316202432[[#This Row],[Item Cost]]","v":0}]
[null,null,null,{"$f":"Table316202432[[#This Row],[Quantity]]*Table316202432[[#This Row],[Item Cost]]","v":0}]
[null,null,null,{"$f":"Table316202432[[#This Row],[Quantity]]*Table316202432[[#This Row],[Item Cost]]","v":0}]
[null,null,null,{"$f":"Table316202432[[#This Row],[Quantity]]*Table316202432[[#This Row],[Item Cost]]","v":0}]
[null,null,null,{"$f":"Table316202432[[#This Row],[Quantity]]*Table316202432[[#This Row],[Item Cost]]","v":0}]
[null,null,null,{"$f":"Table316202432[[#This Row],[Quantity]]*Table316202432[[#This Row],[Item Cost]]","v":0}]
[null,null,null,{"$f":"Table316202432[[#This Row],[Quantity]]*Table316202432[[#This Row],[Item Cost]]","v":0}]
[null,null,null,{"$f":"Table316202432[[#This Row],[Quantity]]*Table316202432[[#This Row],[Item Cost]]","v":0}]
["Total",null,null,{"$f":"SUBTOTAL(109,Table316202432[Total])","v":0}]
["Supply Detail","Quantity","Item Cost","Total"]
[null,null,null,{"$f":"Table417212533[[#This Row],[Quantity]]*Table417212533[[#This Row],[Item Cost]]","v":0}]
[null,null,null,{"$f":"Table417212533[[#This Row],[Quantity]]*Table417212533[[#This Row],[Item Cost]]","v":0}]
[null,null,null,{"$f":"Table417212533[[#This Row],[Quantity]]*Table417212533[[#This Row],[Item Cost]]","v":0}]
[null,null,null,{"$f":"Table417212533[[#This Row],[Quantity]]*Table417212533[[#This Row],[Item Cost]]","v":0}]
[null,null,null,{"$f":"Table417212533[[#This Row],[Quantity]]*Table417212533[[#This Row],[Item Cost]]","v":0}]
[null,null,null,{"$f":"Table417212533[[#This Row],[Quantity]]*Table417212533[[#This Row],[Item Cost]]","v":0}]
[null,null,null,{"$f":"Table417212533[[#This Row],[Quantity]]*Table417212533[[#This Row],[Item Cost]]","v":0}]
[null,null,null,{"$f":"Table417212533[[#This Row],[Quantity]]*Table417212533[[#This Row],[Item Cost]]","v":0}]
[null,null,null,{"$f":"Table417212533[[#This Row],[Quantity]]*Table417212533[[#This Row],[Item Cost]]","v":0}]
[null,null,null,{"$f":"Table417212533[[#This Row],[Quantity]]*Table417212533[[#This Row],[Item Cost]]","v":0}]
[null,null,null,{"$f":"Table417212533[[#This Row],[Quantity]]*Table417212533[[#This Row],[Item Cost]]","v":0}]
["Total",null,null,{"$f":"SUBTOTAL(109,Table417212533[Total])","v":0}]
["Personnel Detail","Hours","Wage + Benefits","Total"]
[null,null,null,{"$f":"Table518222634[[#This Row],[Hours]]*Table518222634[[#This Row],[Wage + Benefits]]","v":0}]
[null,null,null,{"$f":"Table518222634[[#This Row],[Hours]]*Table518222634[[#This Row],[Wage + Benefits]]","v":0}]
[null,null,null,{"$f":"Table518222634[[#This Row],[Hours]]*Table518222634[[#This Row],[Wage + Benefits]]","v":0}]
[null,null,null,{"$f":"Table518222634[[#This Row],[Hours]]*Table518222634[[#This Row],[Wage + Benefits]]","v":0}]
[null,null,null,{"$f":"Table518222634[[#This Row],[Hours]]*Table518222634[[#This Row],[Wage + Benefits]]","v":0}]
[null,null,null,{"$f":"Table518222634[[#This Row],[Hours]]*Table518222634[[#This Row],[Wage + Benefits]]","v":0}]
[null,null,null,{"$f":"Table518222634[[#This Row],[Hours]]*Table518222634[[#This Row],[Wage + Benefits]]","v":0}]
[null,null,null,{"$f":"Table518222634[[#This Row],[Hours]]*Table518222634[[#This Row],[Wage + Benefits]]","v":0}]
[null,null,null,{"$f":"Table518222634[[#This Row],[Hours]]*Table518222634[[#This Row],[Wage + Benefits]]","v":0}]
[null,null,null,{"$f":"Table518222634[[#This Row],[Hours]]*Table518222634[[#This Row],[Wage + Benefits]]","v":0}]
[null,null,null,{"$f":"Table518222634[[#This Row],[Hours]]*Table518222634[[#This Row],[Wage + Benefits]]","v":0}]
["Total",null,null,{"$f":"SUBTOTAL(109,Table518222634[Total])","v":0}]

{"sheet":"Pantry 1","index":5,"n_rows":66,"n_cols":7,"rows_kept":66,"cut":false,"hidden":false,"merged":[[1,1,1,3],[2,1,2,3],[10,2,10,3],[12,1,12,3],[13,1,13,3],[8,1,8,2]]}
["Pantry Details"]
["Pantry Name:","Pantry 1"]
["Street Address:"]
["City:",null,null,"State: ","WI","Zip:"]
["Contact"]
["First Name:",null,null,"Last Name:"]
["Phone:",null,null,"Email:"]
["Demographics"]
["County (location of Pantry):"]
["Counties Served:"]
["Annual Households served:"]
["Annual Pounds of Food Distributed:"]
["Partnerships:"]
["Tribal Connections:"]
["Budget","Tab before total row to add rows, as needed"]
["Travel Detail","Quantity","Item Cost","Total"]
[null,null,null,{"$f":"Table21519233[[#This Row],[Quantity]]*Table21519233[[#This Row],[Item Cost]]","v":0}]
[null,null,null,{"$f":"Table21519233[[#This Row],[Quantity]]*Table21519233[[#This Row],[Item Cost]]","v":0},null,"Budget Summary"]
[null,null,null,{"$f":"Table21519233[[#This Row],[Quantity]]*Table21519233[[#This Row],[Item Cost]]","v":0},null,"Travel",{"$f":"Table21519233[[#Totals],[Total]]","v":0}]
[null,null,null,{"$f":"Table21519233[[#This Row],[Quantity]]*Table21519233[[#This Row],[Item Cost]]","v":0},null,"Equipment",{"$f":"Table31620244[[#Totals],[Total]]","v":0}]
[null,null,null,{"$f":"Table21519233[[#This Row],[Quantity]]*Table21519233[[#This Row],[Item Cost]]","v":0},null,"Supplies",{"$f":"Table41721255[[#Totals],[Total]]","v":0}]
[null,null,null,{"$f":"Table21519233[[#This Row],[Quantity]]*Table21519233[[#This Row],[Item Cost]]","v":0},null,"Personnel",{"$f":"Table51822266[[#Totals],[Total]]","v":0}]
[null,null,null,{"$f":"Table21519233[[#This Row],[Quantity]]*Table21519233[[#This Row],[Item Cost]]","v":0},null,"Total",{"$f":"SUM(G19:G22)","v":0}]
[null,null,null,{"$f":"Table21519233[[#This Row],[Quantity]]*Table21519233[[#This Row],[Item Cost]]","v":0}]
[null,null,null,{"$f":"Table21519233[[#This Row],[Quantity]]*Table21519233[[#This Row],[Item Cost]]","v":0}]
[null,null,null,{"$f":"Table21519233[[#This Row],[Quantity]]*Table21519233[[#This Row],[Item Cost]]","v":0}]
[null,null,null,{"$f":"Table21519233[[#This Row],[Quantity]]*Table21519233[[#This Row],[Item Cost]]","v":0}]
["Total",null,null,{"$f":"SUBTOTAL(109,Table21519233[Total])","v":0}]
["Equipment Detail","Quantity","Item Cost","Total"]
[null,null,null,{"$f":"Table31620244[[#This Row],[Quantity]]*Table31620244[[#This Row],[Item Cost]]","v":0}]
[null,null,null,{"$f":"Table31620244[[#This Row],[Quantity]]*Table31620244[[#This Row],[Item Cost]]","v":0}]
[null,null,null,{"$f":"Table31620244[[#This Row],[Quantity]]*Table31620244[[#This Row],[Item Cost]]","v":0}]
[null,null,null,{"$f":"Table31620244[[#This Row],[Quantity]]*Table31620244[[#This Row],[Item Cost]]","v":0}]
[null,null,null,{"$f":"Table31620244[[#This Row],[Quantity]]*Table31620244[[#This Row],[Item Cost]]","v":0}]
[null,null,null,{"$f":"Table31620244[[#This Row],[Quantity]]*Table31620244[[#This Row],[Item Cost]]","v":0}]
[null,null,null,{"$f":"Table31620244[[#This Row],[Quantity]]*Table31620244[[#This Row],[Item Cost]]","v":0}]
[null,null,null,{"$f":"Table31620244[[#This Row],[Quantity]]*Table31620244[[#This Row],[Item Cost]]","v":0}]
[null,null,null,{"$f":"Table31620244[[#This Row],[Quantity]]*Table31620244[[#This Row],[Item Cost]]","v":0}]
[null,null,null,{"$f":"Table31620244[[#This Row],[Quantity]]*Table31620244[[#This Row],[Item Cost]]","v":0}]
["Total",null,null,{"$f":"SUBTOTAL(109,Table31620244[Total])","v":0}]
["Supply Detail","Quantity","Item Cost","Total"]
[null,null,null,{"$f":"Table41721255[[#This Row],[Quantity]]*Table41721255[[#This Row],[Item Cost]]","v":0}]
[null,null,null,{"$f":"Table41721255[[#This Row],[Quantity]]*Table41721255[[#This Row],[Item Cost]]","v":0}]
[null,null,null,{"$f":"Table41721255[[#This Row],[Quantity]]*Table41721255[[#This Row],[Item Cost]]","v":0}]
[null,null,null,{"$f":"Table41721255[[#This Row],[Quantity]]*Table41721255[[#This Row],[Item Cost]]","v":0}]
[null,null,null,{"$f":"Table41721255[[#This Row],[Quantity]]*Table41721255[[#This Row],[Item Cost]]","v":0}]
[null,null,null,{"$f":"Table41721255[[#This Row],[Quantity]]*Table41721255[[#This Row],[Item Cost]]","v":0}]
[null,null,null,{"$f":"Table41721255[[#This Row],[Quantity]]*Table41721255[[#This Row],[Item Cost]]","v":0}]
[null,null,null,{"$f":"Table41721255[[#This Row],[Quantity]]*Table41721255[[#This Row],[Item Cost]]","v":0}]
[null,null,null,{"$f":"Table41721255[[#This Row],[Quantity]]*Table41721255[[#This Row],[Item Cost]]","v":0}]
[null,null,null,{"$f":"Table41721255[[#This Row],[Quantity]]*Table41721255[[#This Row],[Item Cost]]","v":0}]
[null,null,null,{"$f":"Table41721255[[#This Row],[Quantity]]*Table41721255[[#This Row],[Item Cost]]","v":0}]
["Total",null,null,{"$f":"SUBTOTAL(109,Table41721255[Total])","v":0}]
["Personnel Detail","Hours","Wage + Benefits","Total"]
[null,null,null,{"$f":"Table51822266[[#This Row],[Hours]]*Table51822266[[#This Row],[Wage + Benefits]]","v":0}]
[null,null,null,{"$f":"Table51822266[[#This Row],[Hours]]*Table51822266[[#This Row],[Wage + Benefits]]","v":0}]
[null,null,null,{"$f":"Table51822266[[#This Row],[Hours]]*Table51822266[[#This Row],[Wage + Benefits]]","v":0}]
[null,null,null,{"$f":"Table51822266[[#This Row],[Hours]]*Table51822266[[#This Row],[Wage + Benefits]]","v":0}]
[null,null,null,{"$f":"Table51822266[[#This Row],[Hours]]*Table51822266[[#This Row],[Wage + Benefits]]","v":0}]
[null,null,null,{"$f":"Table51822266[[#This Row],[Hours]]*Table51822266[[#This Row],[Wage + Benefits]]","v":0}]
[null,null,null,{"$f":"Table51822266[[#This Row],[Hours]]*Table51822266[[#This Row],[Wage + Benefits]]","v":0}]
[null,null,null,{"$f":"Table51822266[[#This Row],[Hours]]*Table51822266[[#This Row],[Wage + Benefits]]","v":0}]
[null,null,null,{"$f":"Table51822266[[#This Row],[Hours]]*Table51822266[[#This Row],[Wage + Benefits]]","v":0}]
[null,null,null,{"$f":"Table51822266[[#This Row],[Hours]]*Table51822266[[#This Row],[Wage + Benefits]]","v":0}]
[null,null,null,{"$f":"Table51822266[[#This Row],[Hours]]*Table51822266[[#This Row],[Wage + Benefits]]","v":0}]
["Total",null,null,{"$f":"SUBTOTAL(109,Table51822266[Total])","v":0}]

{"sheet":"Pantry 2","index":6,"n_rows":66,"n_cols":7,"rows_kept":66,"cut":false,"hidden":false,"merged":[[1,1,1,3],[2,1,2,3],[10,2,10,3],[12,1,12,3],[13,1,13,3],[8,1,8,2]]}
["Pantry Details"]
["Pantry Name:","Pantry 2"]
["Street Address:"]
["City:",null,null,"State: ","WI","Zip:"]
["Contact"]
["First Name:",null,null,"Last Name:"]
["Phone:",null,null,"Email:"]
["Demographics"]
["County (location of Pantry):"]
["Counties Served:"]
["Annual Households served:"]
["Annual Pounds of Food Distributed:"]
["Partnerships:"]
["Tribal Connections:"]
["Budget","Tab before total row to add rows, as needed"]
["Travel Detail","Quantity","Item Cost","Total"]
[null,null,null,{"$f":"Table215192311[[#This Row],[Quantity]]*Table215192311[[#This Row],[Item Cost]]","v":0}]
[null,null,null,{"$f":"Table215192311[[#This Row],[Quantity]]*Table215192311[[#This Row],[Item Cost]]","v":0},null,"Budget Summary"]
[null,null,null,{"$f":"Table215192311[[#This Row],[Quantity]]*Table215192311[[#This Row],[Item Cost]]","v":0},null,"Travel",{"$f":"Table215192311[[#Totals],[Total]]","v":0}]
[null,null,null,{"$f":"Table215192311[[#This Row],[Quantity]]*Table215192311[[#This Row],[Item Cost]]","v":0},null,"Equipment",{"$f":"Table316202412[[#Totals],[Total]]","v":0}]
[null,null,null,{"$f":"Table215192311[[#This Row],[Quantity]]*Table215192311[[#This Row],[Item Cost]]","v":0},null,"Supplies",{"$f":"Table417212513[[#Totals],[Total]]","v":0}]
[null,null,null,{"$f":"Table215192311[[#This Row],[Quantity]]*Table215192311[[#This Row],[Item Cost]]","v":0},null,"Personnel",{"$f":"Table518222614[[#Totals],[Total]]","v":0}]
[null,null,null,{"$f":"Table215192311[[#This Row],[Quantity]]*Table215192311[[#This Row],[Item Cost]]","v":0},null,"Total",{"$f":"SUM(G19:G22)","v":0}]
[null,null,null,{"$f":"Table215192311[[#This Row],[Quantity]]*Table215192311[[#This Row],[Item Cost]]","v":0}]
[null,null,null,{"$f":"Table215192311[[#This Row],[Quantity]]*Table215192311[[#This Row],[Item Cost]]","v":0}]
[null,null,null,{"$f":"Table215192311[[#This Row],[Quantity]]*Table215192311[[#This Row],[Item Cost]]","v":0}]
[null,null,null,{"$f":"Table215192311[[#This Row],[Quantity]]*Table215192311[[#This Row],[Item Cost]]","v":0}]
["Total",null,null,{"$f":"SUBTOTAL(109,Table215192311[Total])","v":0}]
["Equipment Detail","Quantity","Item Cost","Total"]
[null,null,null,{"$f":"Table316202412[[#This Row],[Quantity]]*Table316202412[[#This Row],[Item Cost]]","v":0}]
[null,null,null,{"$f":"Table316202412[[#This Row],[Quantity]]*Table316202412[[#This Row],[Item Cost]]","v":0}]
[null,null,null,{"$f":"Table316202412[[#This Row],[Quantity]]*Table316202412[[#This Row],[Item Cost]]","v":0}]
[null,null,null,{"$f":"Table316202412[[#This Row],[Quantity]]*Table316202412[[#This Row],[Item Cost]]","v":0}]
[null,null,null,{"$f":"Table316202412[[#This Row],[Quantity]]*Table316202412[[#This Row],[Item Cost]]","v":0}]
[null,null,null,{"$f":"Table316202412[[#This Row],[Quantity]]*Table316202412[[#This Row],[Item Cost]]","v":0}]
[null,null,null,{"$f":"Table316202412[[#This Row],[Quantity]]*Table316202412[[#This Row],[Item Cost]]","v":0}]
[null,null,null,{"$f":"Table316202412[[#This Row],[Quantity]]*Table316202412[[#This Row],[Item Cost]]","v":0}]
[null,null,null,{"$f":"Table316202412[[#This Row],[Quantity]]*Table316202412[[#This Row],[Item Cost]]","v":0}]
[null,null,null,{"$f":"Table316202412[[#This Row],[Quantity]]*Table316202412[[#This Row],[Item Cost]]","v":0}]
["Total",null,null,{"$f":"SUBTOTAL(109,Table316202412[Total])","v":0}]
["Supply Detail","Quantity","Item Cost","Total"]
[null,null,null,{"$f":"Table417212513[[#This Row],[Quantity]]*Table417212513[[#This Row],[Item Cost]]","v":0}]
[null,null,null,{"$f":"Table417212513[[#This Row],[Quantity]]*Table417212513[[#This Row],[Item Cost]]","v":0}]
[null,null,null,{"$f":"Table417212513[[#This Row],[Quantity]]*Table417212513[[#This Row],[Item Cost]]","v":0}]
[null,null,null,{"$f":"Table417212513[[#This Row],[Quantity]]*Table417212513[[#This Row],[Item Cost]]","v":0}]
[null,null,null,{"$f":"Table417212513[[#This Row],[Quantity]]*Table417212513[[#This Row],[Item Cost]]","v":0}]
[null,null,null,{"$f":"Table417212513[[#This Row],[Quantity]]*Table417212513[[#This Row],[Item Cost]]","v":0}]
[null,null,null,{"$f":"Table417212513[[#This Row],[Quantity]]*Table417212513[[#This Row],[Item Cost]]","v":0}]
[null,null,null,{"$f":"Table417212513[[#This Row],[Quantity]]*Table417212513[[#This Row],[Item Cost]]","v":0}]
[null,null,null,{"$f":"Table417212513[[#This Row],[Quantity]]*Table417212513[[#This Row],[Item Cost]]","v":0}]
[null,null,null,{"$f":"Table417212513[[#This Row],[Quantity]]*Table417212513[[#This Row],[Item Cost]]","v":0}]
[null,null,null,{"$f":"Table417212513[[#This Row],[Quantity]]*Table417212513[[#This Row],[Item Cost]]","v":0}]
["Total",null,null,{"$f":"SUBTOTAL(109,Table417212513[Total])","v":0}]
["Personnel Detail","Hours","Wage + Benefits","Total"]
[null,null,null,{"$f":"Table518222614[[#This Row],[Hours]]*Table518222614[[#This Row],[Wage + Benefits]]","v":0}]
[null,null,null,{"$f":"Table518222614[[#This Row],[Hours]]*Table518222614[[#This Row],[Wage + Benefits]]","v":0}]
[null,null,null,{"$f":"Table518222614[[#This Row],[Hours]]*Table518222614[[#This Row],[Wage + Benefits]]","v":0}]
[null,null,null,{"$f":"Table518222614[[#This Row],[Hours]]*Table518222614[[#This Row],[Wage + Benefits]]","v":0}]
[null,null,null,{"$f":"Table518222614[[#This Row],[Hours]]*Table518222614[[#This Row],[Wage + Benefits]]","v":0}]
[null,null,null,{"$f":"Table518222614[[#This Row],[Hours]]*Table518222614[[#This Row],[Wage + Benefits]]","v":0}]
[null,null,null,{"$f":"Table518222614[[#This Row],[Hours]]*Table518222614[[#This Row],[Wage + Benefits]]","v":0}]
[null,null,null,{"$f":"Table518222614[[#This Row],[Hours]]*Table518222614[[#This Row],[Wage + Benefits]]","v":0}]
[null,null,null,{"$f":"Table518222614[[#This Row],[Hours]]*Table518222614[[#This Row],[Wage + Benefits]]","v":0}]
[null,null,null,{"$f":"Table518222614[[#This Row],[Hours]]*Table518222614[[#This Row],[Wage + Benefits]]","v":0}]
[null,null,null,{"$f":"Table518222614[[#This Row],[Hours]]*Table518222614[[#This Row],[Wage + Benefits]]","v":0}]
["Total",null,null,{"$f":"SUBTOTAL(109,Table518222614[Total])","v":0}]

{"sheet":"Pantry 3","index":7,"n_rows":66,"n_cols":7,"rows_kept":66,"cut":false,"hidden":false,"merged":[[1,1,1,3],[2,1,2,3],[10,2,10,3],[12,1,12,3],[13,1,13,3],[8,1,8,2]]}
["Pantry Details"]
["Pantry Name:","Pantry 3"]
["Street Address:"]
["City:",null,null,"State: ","WI","Zip:"]
["Contact"]
["First Name:",null,null,"Last Name:"]
["Phone:",null,null,"Email:"]
["Demographics"]
["County (location of Pantry):"]
["Counties Served:"]
["Annual Households served:"]
["Annual Pounds of Food Distributed:"]
["Partnerships:"]
["Tribal Connections:"]
["Budget","Tab before total row to add rows, as needed"]
["Travel Detail","Quantity","Item Cost","Total"]
[null,null,null,{"$f":"Table215192315[[#This Row],[Quantity]]*Table215192315[[#This Row],[Item Cost]]","v":0}]
[null,null,null,{"$f":"Table215192315[[#This Row],[Quantity]]*Table215192315[[#This Row],[Item Cost]]","v":0},null,"Budget Summary"]
[null,null,null,{"$f":"Table215192315[[#This Row],[Quantity]]*Table215192315[[#This Row],[Item Cost]]","v":0},null,"Travel",{"$f":"Table215192315[[#Totals],[Total]]","v":0}]
[null,null,null,{"$f":"Table215192315[[#This Row],[Quantity]]*Table215192315[[#This Row],[Item Cost]]","v":0},null,"Equipment",{"$f":"Table316202416[[#Totals],[Total]]","v":0}]
[null,null,null,{"$f":"Table215192315[[#This Row],[Quantity]]*Table215192315[[#This Row],[Item Cost]]","v":0},null,"Supplies",{"$f":"Table417212517[[#Totals],[Total]]","v":0}]
[null,null,null,{"$f":"Table215192315[[#This Row],[Quantity]]*Table215192315[[#This Row],[Item Cost]]","v":0},null,"Personnel",{"$f":"Table518222618[[#Totals],[Total]]","v":0}]
[null,null,null,{"$f":"Table215192315[[#This Row],[Quantity]]*Table215192315[[#This Row],[Item Cost]]","v":0},null,"Total",{"$f":"SUM(G19:G22)","v":0}]
[null,null,null,{"$f":"Table215192315[[#This Row],[Quantity]]*Table215192315[[#This Row],[Item Cost]]","v":0}]
[null,null,null,{"$f":"Table215192315[[#This Row],[Quantity]]*Table215192315[[#This Row],[Item Cost]]","v":0}]
[null,null,null,{"$f":"Table215192315[[#This Row],[Quantity]]*Table215192315[[#This Row],[Item Cost]]","v":0}]
[null,null,null,{"$f":"Table215192315[[#This Row],[Quantity]]*Table215192315[[#This Row],[Item Cost]]","v":0}]
["Total",null,null,{"$f":"SUBTOTAL(109,Table215192315[Total])","v":0}]
["Equipment Detail","Quantity","Item Cost","Total"]
[null,null,null,{"$f":"Table316202416[[#This Row],[Quantity]]*Table316202416[[#This Row],[Item Cost]]","v":0}]
[null,null,null,{"$f":"Table316202416[[#This Row],[Quantity]]*Table316202416[[#This Row],[Item Cost]]","v":0}]
[null,null,null,{"$f":"Table316202416[[#This Row],[Quantity]]*Table316202416[[#This Row],[Item Cost]]","v":0}]
[null,null,null,{"$f":"Table316202416[[#This Row],[Quantity]]*Table316202416[[#This Row],[Item Cost]]","v":0}]
[null,null,null,{"$f":"Table316202416[[#This Row],[Quantity]]*Table316202416[[#This Row],[Item Cost]]","v":0}]
[null,null,null,{"$f":"Table316202416[[#This Row],[Quantity]]*Table316202416[[#This Row],[Item Cost]]","v":0}]
[null,null,null,{"$f":"Table316202416[[#This Row],[Quantity]]*Table316202416[[#This Row],[Item Cost]]","v":0}]
[null,null,null,{"$f":"Table316202416[[#This Row],[Quantity]]*Table316202416[[#This Row],[Item Cost]]","v":0}]
[null,null,null,{"$f":"Table316202416[[#This Row],[Quantity]]*Table316202416[[#This Row],[Item Cost]]","v":0}]
[null,null,null,{"$f":"Table316202416[[#This Row],[Quantity]]*Table316202416[[#This Row],[Item Cost]]","v":0}]
["Total",null,null,{"$f":"SUBTOTAL(109,Table316202416[Total])","v":0}]
["Supply Detail","Quantity","Item Cost","Total"]
[null,null,null,{"$f":"Table417212517[[#This Row],[Quantity]]*Table417212517[[#This Row],[Item Cost]]","v":0}]
[null,null,null,{"$f":"Table417212517[[#This Row],[Quantity]]*Table417212517[[#This Row],[Item Cost]]","v":0}]
[null,null,null,{"$f":"Table417212517[[#This Row],[Quantity]]*Table417212517[[#This Row],[Item Cost]]","v":0}]
[null,null,null,{"$f":"Table417212517[[#This Row],[Quantity]]*Table417212517[[#This Row],[Item Cost]]","v":0}]
[null,null,null,{"$f":"Table417212517[[#This Row],[Quantity]]*Table417212517[[#This Row],[Item Cost]]","v":0}]
[null,null,null,{"$f":"Table417212517[[#This Row],[Quantity]]*Table417212517[[#This Row],[Item Cost]]","v":0}]
[null,null,null,{"$f":"Table417212517[[#This Row],[Quantity]]*Table417212517[[#This Row],[Item Cost]]","v":0}]
[null,null,null,{"$f":"Table417212517[[#This Row],[Quantity]]*Table417212517[[#This Row],[Item Cost]]","v":0}]
[null,null,null,{"$f":"Table417212517[[#This Row],[Quantity]]*Table417212517[[#This Row],[Item Cost]]","v":0}]
[null,null,null,{"$f":"Table417212517[[#This Row],[Quantity]]*Table417212517[[#This Row],[Item Cost]]","v":0}]
[null,null,null,{"$f":"Table417212517[[#This Row],[Quantity]]*Table417212517[[#This Row],[Item Cost]]","v":0}]
["Total",null,null,{"$f":"SUBTOTAL(109,Table417212517[Total])","v":0}]
["Personnel Detail","Hours","Wage + Benefits","Total"]
[null,null,null,{"$f":"Table518222618[[#This Row],[Hours]]*Table518222618[[#This Row],[Wage + Benefits]]","v":0}]
[null,null,null,{"$f":"Table518222618[[#This Row],[Hours]]*Table518222618[[#This Row],[Wage + Benefits]]","v":0}]
[null,null,null,{"$f":"Table518222618[[#This Row],[Hours]]*Table518222618[[#This Row],[Wage + Benefits]]","v":0}]
[null,null,null,{"$f":"Table518222618[[#This Row],[Hours]]*Table518222618[[#This Row],[Wage + Benefits]]","v":0}]
[null,null,null,{"$f":"Table518222618[[#This Row],[Hours]]*Table518222618[[#This Row],[Wage + Benefits]]","v":0}]
[null,null,null,{"$f":"Table518222618[[#This Row],[Hours]]*Table518222618[[#This Row],[Wage + Benefits]]","v":0}]
[null,null,null,{"$f":"Table518222618[[#This Row],[Hours]]*Table518222618[[#This Row],[Wage + Benefits]]","v":0}]
[null,null,null,{"$f":"Table518222618[[#This Row],[Hours]]*Table518222618[[#This Row],[Wage + Benefits]]","v":0}]
[null,null,null,{"$f":"Table518222618[[#This Row],[Hours]]*Table518222618[[#This Row],[Wage + Benefits]]","v":0}]
[null,null,null,{"$f":"Table518222618[[#This Row],[Hours]]*Table518222618[[#This Row],[Wage + Benefits]]","v":0}]
[null,null,null,{"$f":"Table518222618[[#This Row],[Hours]]*Table518222618[[#This Row],[Wage + Benefits]]","v":0}]
["Total",null,null,{"$f":"SUBTOTAL(109,Table518222618[Total])","v":0}]

{"sheet":"Pantry 4","index":8,"n_rows":66,"n_cols":7,"rows_kept":66,"cut":false,"hidden":false,"merged":[[1,1,1,3],[2,1,2,3],[10,2,10,3],[12,1,12,3],[13,1,13,3],[8,1,8,2]]}
["Pantry Details"]
["Pantry Name:","Pantry 4"]
["Street Address:"]
["City:",null,null,"State: ","WI","Zip:"]
["Contact"]
["First Name:",null,null,"Last Name:"]
["Phone:",null,null,"Email:"]
["Demographics"]
["County (location of Pantry):"]
["Counties Served:"]
["Annual Households served:"]
["Annual Pounds of Food Distributed:"]
["Partnerships:"]
["Tribal Connections:"]
["Budget","Tab before total row to add rows, as needed"]
["Travel Detail","Quantity","Item Cost","Total"]
[null,null,null,{"$f":"Table21519231519[[#This Row],[Quantity]]*Table21519231519[[#This Row],[Item Cost]]","v":0}]
[null,null,null,{"$f":"Table21519231519[[#This Row],[Quantity]]*Table21519231519[[#This Row],[Item Cost]]","v":0},null,"Budget Summary"]
[null,null,null,{"$f":"Table21519231519[[#This Row],[Quantity]]*Table21519231519[[#This Row],[Item Cost]]","v":0},null,"Travel",{"$f":"Table21519231519[[#Totals],[Total]]","v":0}]
[null,null,null,{"$f":"Table21519231519[[#This Row],[Quantity]]*Table21519231519[[#This Row],[Item Cost]]","v":0},null,"Equipment",{"$f":"Table31620241620[[#Totals],[Total]]","v":0}]
[null,null,null,{"$f":"Table21519231519[[#This Row],[Quantity]]*Table21519231519[[#This Row],[Item Cost]]","v":0},null,"Supplies",{"$f":"Table41721251721[[#Totals],[Total]]","v":0}]
[null,null,null,{"$f":"Table21519231519[[#This Row],[Quantity]]*Table21519231519[[#This Row],[Item Cost]]","v":0},null,"Personnel",{"$f":"Table51822261822[[#Totals],[Total]]","v":0}]
[null,null,null,{"$f":"Table21519231519[[#This Row],[Quantity]]*Table21519231519[[#This Row],[Item Cost]]","v":0},null,"Total",{"$f":"SUM(G19:G22)","v":0}]
[null,null,null,{"$f":"Table21519231519[[#This Row],[Quantity]]*Table21519231519[[#This Row],[Item Cost]]","v":0}]
[null,null,null,{"$f":"Table21519231519[[#This Row],[Quantity]]*Table21519231519[[#This Row],[Item Cost]]","v":0}]
[null,null,null,{"$f":"Table21519231519[[#This Row],[Quantity]]*Table21519231519[[#This Row],[Item Cost]]","v":0}]
[null,null,null,{"$f":"Table21519231519[[#This Row],[Quantity]]*Table21519231519[[#This Row],[Item Cost]]","v":0}]
["Total",null,null,{"$f":"SUBTOTAL(109,Table21519231519[Total])","v":0}]
["Equipment Detail","Quantity","Item Cost","Total"]
[null,null,null,{"$f":"Table31620241620[[#This Row],[Quantity]]*Table31620241620[[#This Row],[Item Cost]]","v":0}]
[null,null,null,{"$f":"Table31620241620[[#This Row],[Quantity]]*Table31620241620[[#This Row],[Item Cost]]","v":0}]
[null,null,null,{"$f":"Table31620241620[[#This Row],[Quantity]]*Table31620241620[[#This Row],[Item Cost]]","v":0}]
[null,null,null,{"$f":"Table31620241620[[#This Row],[Quantity]]*Table31620241620[[#This Row],[Item Cost]]","v":0}]
[null,null,null,{"$f":"Table31620241620[[#This Row],[Quantity]]*Table31620241620[[#This Row],[Item Cost]]","v":0}]
[null,null,null,{"$f":"Table31620241620[[#This Row],[Quantity]]*Table31620241620[[#This Row],[Item Cost]]","v":0}]
[null,null,null,{"$f":"Table31620241620[[#This Row],[Quantity]]*Table31620241620[[#This Row],[Item Cost]]","v":0}]
[null,null,null,{"$f":"Table31620241620[[#This Row],[Quantity]]*Table31620241620[[#This Row],[Item Cost]]","v":0}]
[null,null,null,{"$f":"Table31620241620[[#This Row],[Quantity]]*Table31620241620[[#This Row],[Item Cost]]","v":0}]
[null,null,null,{"$f":"Table31620241620[[#This Row],[Quantity]]*Table31620241620[[#This Row],[Item Cost]]","v":0}]
["Total",null,null,{"$f":"SUBTOTAL(109,Table31620241620[Total])","v":0}]
["Supply Detail","Quantity","Item Cost","Total"]
[null,null,null,{"$f":"Table41721251721[[#This Row],[Quantity]]*Table41721251721[[#This Row],[Item Cost]]","v":0}]
[null,null,null,{"$f":"Table41721251721[[#This Row],[Quantity]]*Table41721251721[[#This Row],[Item Cost]]","v":0}]
[null,null,null,{"$f":"Table41721251721[[#This Row],[Quantity]]*Table41721251721[[#This Row],[Item Cost]]","v":0}]
[null,null,null,{"$f":"Table41721251721[[#This Row],[Quantity]]*Table41721251721[[#This Row],[Item Cost]]","v":0}]
[null,null,null,{"$f":"Table41721251721[[#This Row],[Quantity]]*Table41721251721[[#This Row],[Item Cost]]","v":0}]
[null,null,null,{"$f":"Table41721251721[[#This Row],[Quantity]]*Table41721251721[[#This Row],[Item Cost]]","v":0}]
[null,null,null,{"$f":"Table41721251721[[#This Row],[Quantity]]*Table41721251721[[#This Row],[Item Cost]]","v":0}]
[null,null,null,{"$f":"Table41721251721[[#This Row],[Quantity]]*Table41721251721[[#This Row],[Item Cost]]","v":0}]
[null,null,null,{"$f":"Table41721251721[[#This Row],[Quantity]]*Table41721251721[[#This Row],[Item Cost]]","v":0}]
[null,null,null,{"$f":"Table41721251721[[#This Row],[Quantity]]*Table41721251721[[#This Row],[Item Cost]]","v":0}]
[null,null,null,{"$f":"Table41721251721[[#This Row],[Quantity]]*Table41721251721[[#This Row],[Item Cost]]","v":0}]
["Total",null,null,{"$f":"SUBTOTAL(109,Table41721251721[Total])","v":0}]
["Personnel Detail","Hours","Wage + Benefits","Total"]
[null,null,null,{"$f":"Table51822261822[[#This Row],[Hours]]*Table51822261822[[#This Row],[Wage + Benefits]]","v":0}]
[null,null,null,{"$f":"Table51822261822[[#This Row],[Hours]]*Table51822261822[[#This Row],[Wage + Benefits]]","v":0}]
[null,null,null,{"$f":"Table51822261822[[#This Row],[Hours]]*Table51822261822[[#This Row],[Wage + Benefits]]","v":0}]
[null,null,null,{"$f":"Table51822261822[[#This Row],[Hours]]*Table51822261822[[#This Row],[Wage + Benefits]]","v":0}]
[null,null,null,{"$f":"Table51822261822[[#This Row],[Hours]]*Table51822261822[[#This Row],[Wage + Benefits]]","v":0}]
[null,null,null,{"$f":"Table51822261822[[#This Row],[Hours]]*Table51822261822[[#This Row],[Wage + Benefits]]","v":0}]
[null,null,null,{"$f":"Table51822261822[[#This Row],[Hours]]*Table51822261822[[#This Row],[Wage + Benefits]]","v":0}]
[null,null,null,{"$f":"Table51822261822[[#This Row],[Hours]]*Table51822261822[[#This Row],[Wage + Benefits]]","v":0}]
[null,null,null,{"$f":"Table51822261822[[#This Row],[Hours]]*Table51822261822[[#This Row],[Wage + Benefits]]","v":0}]
[null,null,null,{"$f":"Table51822261822[[#This Row],[Hours]]*Table51822261822[[#This Row],[Wage + Benefits]]","v":0}]
[null,null,null,{"$f":"Table51822261822[[#This Row],[Hours]]*Table51822261822[[#This Row],[Wage + Benefits]]","v":0}]
["Total",null,null,{"$f":"SUBTOTAL(109,Table51822261822[Total])","v":0}]

{"sheet":"Pantry 5","index":9,"n_rows":66,"n_cols":7,"rows_kept":66,"cut":false,"hidden":false,"merged":[[1,1,1,3],[2,1,2,3],[10,2,10,3],[12,1,12,3],[13,1,13,3],[8,1,8,2]]}
["Pantry Details"]
["Pantry Name:","Pantry 5"]
["Street Address:"]
["City:",null,null,"State: ","WI","Zip:"]
["Contact"]
["First Name:",null,null,"Last Name:"]
["Phone:",null,null,"Email:"]
["Demographics"]
["County (location of Pantry):"]
["Counties Served:"]
["Annual Households served:"]
["Annual Pounds of Food Distributed:"]
["Partnerships:"]
["Tribal Connections:"]
["Budget","Tab before total row to add rows, as needed"]
["Travel Detail","Quantity","Item Cost","Total"]
[null,null,null,{"$f":"Table2151923151927[[#This Row],[Quantity]]*Table2151923151927[[#This Row],[Item Cost]]","v":0}]
[null,null,null,{"$f":"Table2151923151927[[#This Row],[Quantity]]*Table2151923151927[[#This Row],[Item Cost]]","v":0},null,"Budget Summary"]
[null,null,null,{"$f":"Table2151923151927[[#This Row],[Quantity]]*Table2151923151927[[#This Row],[Item Cost]]","v":0},null,"Travel",{"$f":"Table2151923151927[[#Totals],[Total]]","v":0}]
[null,null,null,{"$f":"Table2151923151927[[#This Row],[Quantity]]*Table2151923151927[[#This Row],[Item Cost]]","v":0},null,"Equipment",{"$f":"Table3162024162028[[#Totals],[Total]]","v":0}]
[null,null,null,{"$f":"Table2151923151927[[#This Row],[Quantity]]*Table2151923151927[[#This Row],[Item Cost]]","v":0},null,"Supplies",{"$f":"Table4172125172129[[#Totals],[Total]]","v":0}]
[null,null,null,{"$f":"Table2151923151927[[#This Row],[Quantity]]*Table2151923151927[[#This Row],[Item Cost]]","v":0},null,"Personnel",{"$f":"Table5182226182230[[#Totals],[Total]]","v":0}]
[null,null,null,{"$f":"Table2151923151927[[#This Row],[Quantity]]*Table2151923151927[[#This Row],[Item Cost]]","v":0},null,"Total",{"$f":"SUM(G19:G22)","v":0}]
[null,null,null,{"$f":"Table2151923151927[[#This Row],[Quantity]]*Table2151923151927[[#This Row],[Item Cost]]","v":0}]
[null,null,null,{"$f":"Table2151923151927[[#This Row],[Quantity]]*Table2151923151927[[#This Row],[Item Cost]]","v":0}]
[null,null,null,{"$f":"Table2151923151927[[#This Row],[Quantity]]*Table2151923151927[[#This Row],[Item Cost]]","v":0}]
[null,null,null,{"$f":"Table2151923151927[[#This Row],[Quantity]]*Table2151923151927[[#This Row],[Item Cost]]","v":0}]
["Total",null,null,{"$f":"SUBTOTAL(109,Table2151923151927[Total])","v":0}]
["Equipment Detail","Quantity","Item Cost","Total"]
[null,null,null,{"$f":"Table3162024162028[[#This Row],[Quantity]]*Table3162024162028[[#This Row],[Item Cost]]","v":0}]
[null,null,null,{"$f":"Table3162024162028[[#This Row],[Quantity]]*Table3162024162028[[#This Row],[Item Cost]]","v":0}]
[null,null,null,{"$f":"Table3162024162028[[#This Row],[Quantity]]*Table3162024162028[[#This Row],[Item Cost]]","v":0}]
[null,null,null,{"$f":"Table3162024162028[[#This Row],[Quantity]]*Table3162024162028[[#This Row],[Item Cost]]","v":0}]
[null,null,null,{"$f":"Table3162024162028[[#This Row],[Quantity]]*Table3162024162028[[#This Row],[Item Cost]]","v":0}]
[null,null,null,{"$f":"Table3162024162028[[#This Row],[Quantity]]*Table3162024162028[[#This Row],[Item Cost]]","v":0}]
[null,null,null,{"$f":"Table3162024162028[[#This Row],[Quantity]]*Table3162024162028[[#This Row],[Item Cost]]","v":0}]
[null,null,null,{"$f":"Table3162024162028[[#This Row],[Quantity]]*Table3162024162028[[#This Row],[Item Cost]]","v":0}]
[null,null,null,{"$f":"Table3162024162028[[#This Row],[Quantity]]*Table3162024162028[[#This Row],[Item Cost]]","v":0}]
[null,null,null,{"$f":"Table3162024162028[[#This Row],[Quantity]]*Table3162024162028[[#This Row],[Item Cost]]","v":0}]
["Total",null,null,{"$f":"SUBTOTAL(109,Table3162024162028[Total])","v":0}]
["Supply Detail","Quantity","Item Cost","Total"]
[null,null,null,{"$f":"Table4172125172129[[#This Row],[Quantity]]*Table4172125172129[[#This Row],[Item Cost]]","v":0}]
[null,null,null,{"$f":"Table4172125172129[[#This Row],[Quantity]]*Table4172125172129[[#This Row],[Item Cost]]","v":0}]
[null,null,null,{"$f":"Table4172125172129[[#This Row],[Quantity]]*Table4172125172129[[#This Row],[Item Cost]]","v":0}]
[null,null,null,{"$f":"Table4172125172129[[#This Row],[Quantity]]*Table4172125172129[[#This Row],[Item Cost]]","v":0}]
[null,null,null,{"$f":"Table4172125172129[[#This Row],[Quantity]]*Table4172125172129[[#This Row],[Item Cost]]","v":0}]
[null,null,null,{"$f":"Table4172125172129[[#This Row],[Quantity]]*Table4172125172129[[#This Row],[Item Cost]]","v":0}]
[null,null,null,{"$f":"Table4172125172129[[#This Row],[Quantity]]*Table4172125172129[[#This Row],[Item Cost]]","v":0}]
[null,null,null,{"$f":"Table4172125172129[[#This Row],[Quantity]]*Table4172125172129[[#This Row],[Item Cost]]","v":0}]
[null,null,null,{"$f":"Table4172125172129[[#This Row],[Quantity]]*Table4172125172129[[#This Row],[Item Cost]]","v":0}]
[null,null,null,{"$f":"Table4172125172129[[#This Row],[Quantity]]*Table4172125172129[[#This Row],[Item Cost]]","v":0}]
[null,null,null,{"$f":"Table4172125172129[[#This Row],[Quantity]]*Table4172125172129[[#This Row],[Item Cost]]","v":0}]
["Total",null,null,{"$f":"SUBTOTAL(109,Table4172125172129[Total])","v":0}]
["Personnel Detail","Hours","Wage + Benefits","Total"]
[null,null,null,{"$f":"Table5182226182230[[#This Row],[Hours]]*Table5182226182230[[#This Row],[Wage + Benefits]]","v":0}]
[null,null,null,{"$f":"Table5182226182230[[#This Row],[Hours]]*Table5182226182230[[#This Row],[Wage + Benefits]]","v":0}]
[null,null,null,{"$f":"Table5182226182230[[#This Row],[Hours]]*Table5182226182230[[#This Row],[Wage + Benefits]]","v":0}]
[null,null,null,{"$f":"Table5182226182230[[#This Row],[Hours]]*Table5182226182230[[#This Row],[Wage + Benefits]]","v":0}]
[null,null,null,{"$f":"Table5182226182230[[#This Row],[Hours]]*Table5182226182230[[#This Row],[Wage + Benefits]]","v":0}]
[null,null,null,{"$f":"Table5182226182230[[#This Row],[Hours]]*Table5182226182230[[#This Row],[Wage + Benefits]]","v":0}]
[null,null,null,{"$f":"Table5182226182230[[#This Row],[Hours]]*Table5182226182230[[#This Row],[Wage + Benefits]]","v":0}]
[null,null,null,{"$f":"Table5182226182230[[#This Row],[Hours]]*Table5182226182230[[#This Row],[Wage + Benefits]]","v":0}]
[null,null,null,{"$f":"Table5182226182230[[#This Row],[Hours]]*Table5182226182230[[#This Row],[Wage + Benefits]]","v":0}]
[null,null,null,{"$f":"Table5182226182230[[#This Row],[Hours]]*Table5182226182230[[#This Row],[Wage + Benefits]]","v":0}]
[null,null,null,{"$f":"Table5182226182230[[#This Row],[Hours]]*Table5182226182230[[#This Row],[Wage + Benefits]]","v":0}]
["Total",null,null,{"$f":"SUBTOTAL(109,Table5182226182230[Total])","v":0}]

{"sheet":"Pantry 6","index":10,"n_rows":66,"n_cols":7,"rows_kept":66,"cut":false,"hidden":false,"merged":[[13,1,13,3],[1,1,1,3],[2,1,2,3],[8,1,8,2],[10,2,10,3],[12,1,12,3]]}
["Pantry Details"]
["Pantry Name:","Pantry 6"]
["Street Address:"]
["City:",null,null,"State: ","WI","Zip:"]
["Contact"]
["First Name:",null,null,"Last Name:"]
["Phone:",null,null,"Email:"]
["Demographics"]
["County (location of Pantry):"]
["Counties Served:"]
["Annual Households served:"]
["Annual Pounds of Food Distributed:"]
["Partnerships:"]
["Tribal Connections:"]
["Budget","Tab before total row to add rows, as needed"]
["Travel Detail","Quantity","Item Cost","Total"]
[null,null,null,{"$f":"Table215192315192739[[#This Row],[Quantity]]*Table215192315192739[[#This Row],[Item Cost]]","v":0}]
[null,null,null,{"$f":"Table215192315192739[[#This Row],[Quantity]]*Table215192315192739[[#This Row],[Item Cost]]","v":0},null,"Budget Summary"]
[null,null,null,{"$f":"Table215192315192739[[#This Row],[Quantity]]*Table215192315192739[[#This Row],[Item Cost]]","v":0},null,"Travel",{"$f":"Table215192315192739[[#Totals],[Total]]","v":0}]
[null,null,null,{"$f":"Table215192315192739[[#This Row],[Quantity]]*Table215192315192739[[#This Row],[Item Cost]]","v":0},null,"Equipment",{"$f":"Table316202416202840[[#Totals],[Total]]","v":0}]
[null,null,null,{"$f":"Table215192315192739[[#This Row],[Quantity]]*Table215192315192739[[#This Row],[Item Cost]]","v":0},null,"Supplies",{"$f":"Table417212517212941[[#Totals],[Total]]","v":0}]
[null,null,null,{"$f":"Table215192315192739[[#This Row],[Quantity]]*Table215192315192739[[#This Row],[Item Cost]]","v":0},null,"Personnel",{"$f":"Table518222618223042[[#Totals],[Total]]","v":0}]
[null,null,null,{"$f":"Table215192315192739[[#This Row],[Quantity]]*Table215192315192739[[#This Row],[Item Cost]]","v":0},null,"Total",{"$f":"SUM(G19:G22)","v":0}]
[null,null,null,{"$f":"Table215192315192739[[#This Row],[Quantity]]*Table215192315192739[[#This Row],[Item Cost]]","v":0}]
[null,null,null,{"$f":"Table215192315192739[[#This Row],[Quantity]]*Table215192315192739[[#This Row],[Item Cost]]","v":0}]
[null,null,null,{"$f":"Table215192315192739[[#This Row],[Quantity]]*Table215192315192739[[#This Row],[Item Cost]]","v":0}]
[null,null,null,{"$f":"Table215192315192739[[#This Row],[Quantity]]*Table215192315192739[[#This Row],[Item Cost]]","v":0}]
["Total",null,null,{"$f":"SUBTOTAL(109,Table215192315192739[Total])","v":0}]
["Equipment Detail","Quantity","Item Cost","Total"]
[null,null,null,{"$f":"Table316202416202840[[#This Row],[Quantity]]*Table316202416202840[[#This Row],[Item Cost]]","v":0}]
[null,null,null,{"$f":"Table316202416202840[[#This Row],[Quantity]]*Table316202416202840[[#This Row],[Item Cost]]","v":0}]
[null,null,null,{"$f":"Table316202416202840[[#This Row],[Quantity]]*Table316202416202840[[#This Row],[Item Cost]]","v":0}]
[null,null,null,{"$f":"Table316202416202840[[#This Row],[Quantity]]*Table316202416202840[[#This Row],[Item Cost]]","v":0}]
[null,null,null,{"$f":"Table316202416202840[[#This Row],[Quantity]]*Table316202416202840[[#This Row],[Item Cost]]","v":0}]
[null,null,null,{"$f":"Table316202416202840[[#This Row],[Quantity]]*Table316202416202840[[#This Row],[Item Cost]]","v":0}]
[null,null,null,{"$f":"Table316202416202840[[#This Row],[Quantity]]*Table316202416202840[[#This Row],[Item Cost]]","v":0}]
[null,null,null,{"$f":"Table316202416202840[[#This Row],[Quantity]]*Table316202416202840[[#This Row],[Item Cost]]","v":0}]
[null,null,null,{"$f":"Table316202416202840[[#This Row],[Quantity]]*Table316202416202840[[#This Row],[Item Cost]]","v":0}]
[null,null,null,{"$f":"Table316202416202840[[#This Row],[Quantity]]*Table316202416202840[[#This Row],[Item Cost]]","v":0}]
["Total",null,null,{"$f":"SUBTOTAL(109,Table316202416202840[Total])","v":0}]
["Supply Detail","Quantity","Item Cost","Total"]
[null,null,null,{"$f":"Table417212517212941[[#This Row],[Quantity]]*Table417212517212941[[#This Row],[Item Cost]]","v":0}]
[null,null,null,{"$f":"Table417212517212941[[#This Row],[Quantity]]*Table417212517212941[[#This Row],[Item Cost]]","v":0}]
[null,null,null,{"$f":"Table417212517212941[[#This Row],[Quantity]]*Table417212517212941[[#This Row],[Item Cost]]","v":0}]
[null,null,null,{"$f":"Table417212517212941[[#This Row],[Quantity]]*Table417212517212941[[#This Row],[Item Cost]]","v":0}]
[null,null,null,{"$f":"Table417212517212941[[#This Row],[Quantity]]*Table417212517212941[[#This Row],[Item Cost]]","v":0}]
[null,null,null,{"$f":"Table417212517212941[[#This Row],[Quantity]]*Table417212517212941[[#This Row],[Item Cost]]","v":0}]
[null,null,null,{"$f":"Table417212517212941[[#This Row],[Quantity]]*Table417212517212941[[#This Row],[Item Cost]]","v":0}]
[null,null,null,{"$f":"Table417212517212941[[#This Row],[Quantity]]*Table417212517212941[[#This Row],[Item Cost]]","v":0}]
[null,null,null,{"$f":"Table417212517212941[[#This Row],[Quantity]]*Table417212517212941[[#This Row],[Item Cost]]","v":0}]
[null,null,null,{"$f":"Table417212517212941[[#This Row],[Quantity]]*Table417212517212941[[#This Row],[Item Cost]]","v":0}]
[null,null,null,{"$f":"Table417212517212941[[#This Row],[Quantity]]*Table417212517212941[[#This Row],[Item Cost]]","v":0}]
["Total",null,null,{"$f":"SUBTOTAL(109,Table417212517212941[Total])","v":0}]
["Personnel Detail","Hours","Wage + Benefits","Total"]
[null,null,null,{"$f":"Table518222618223042[[#This Row],[Hours]]*Table518222618223042[[#This Row],[Wage + Benefits]]","v":0}]
[null,null,null,{"$f":"Table518222618223042[[#This Row],[Hours]]*Table518222618223042[[#This Row],[Wage + Benefits]]","v":0}]
[null,null,null,{"$f":"Table518222618223042[[#This Row],[Hours]]*Table518222618223042[[#This Row],[Wage + Benefits]]","v":0}]
[null,null,null,{"$f":"Table518222618223042[[#This Row],[Hours]]*Table518222618223042[[#This Row],[Wage + Benefits]]","v":0}]
[null,null,null,{"$f":"Table518222618223042[[#This Row],[Hours]]*Table518222618223042[[#This Row],[Wage + Benefits]]","v":0}]
[null,null,null,{"$f":"Table518222618223042[[#This Row],[Hours]]*Table518222618223042[[#This Row],[Wage + Benefits]]","v":0}]
[null,null,null,{"$f":"Table518222618223042[[#This Row],[Hours]]*Table518222618223042[[#This Row],[Wage + Benefits]]","v":0}]
[null,null,null,{"$f":"Table518222618223042[[#This Row],[Hours]]*Table518222618223042[[#This Row],[Wage + Benefits]]","v":0}]
[null,null,null,{"$f":"Table518222618223042[[#This Row],[Hours]]*Table518222618223042[[#This Row],[Wage + Benefits]]","v":0}]
[null,null,null,{"$f":"Table518222618223042[[#This Row],[Hours]]*Table518222618223042[[#This Row],[Wage + Benefits]]","v":0}]
[null,null,null,{"$f":"Table518222618223042[[#This Row],[Hours]]*Table518222618223042[[#This Row],[Wage + Benefits]]","v":0}]
["Total",null,null,{"$f":"SUBTOTAL(109,Table518222618223042[Total])","v":0}]

{"sheet":"Pantry 7","index":11,"n_rows":66,"n_cols":7,"rows_kept":66,"cut":false,"hidden":false,"merged":[[13,1,13,3],[1,1,1,3],[2,1,2,3],[8,1,8,2],[10,2,10,3],[12,1,12,3]]}
["Pantry Details"]
["Pantry Name:","Pantry 7"]
["Street Address:"]
["City:",null,null,"State: ","WI","Zip:"]
["Contact"]
["First Name:",null,null,"Last Name:"]
["Phone:",null,null,"Email:"]
["Demographics"]
["County (location of Pantry):"]
["Counties Served:"]
["Annual Households served:"]
["Annual Pounds of Food Distributed:"]
["Partnerships:"]
["Tribal Connections:"]
["Budget","Tab before total row to add rows, as needed"]
["Travel Detail","Quantity","Item Cost","Total"]
[null,null,null,{"$f":"Table21519231519273943[[#This Row],[Quantity]]*Table21519231519273943[[#This Row],[Item Cost]]","v":0}]
[null,null,null,{"$f":"Table21519231519273943[[#This Row],[Quantity]]*Table21519231519273943[[#This Row],[Item Cost]]","v":0},null,"Budget Summary"]
[null,null,null,{"$f":"Table21519231519273943[[#This Row],[Quantity]]*Table21519231519273943[[#This Row],[Item Cost]]","v":0},null,"Travel",{"$f":"Table21519231519273943[[#Totals],[Total]]","v":0}]
[null,null,null,{"$f":"Table21519231519273943[[#This Row],[Quantity]]*Table21519231519273943[[#This Row],[Item Cost]]","v":0},null,"Equipment",{"$f":"Table31620241620284044[[#Totals],[Total]]","v":0}]
[null,null,null,{"$f":"Table21519231519273943[[#This Row],[Quantity]]*Table21519231519273943[[#This Row],[Item Cost]]","v":0},null,"Supplies",{"$f":"Table41721251721294145[[#Totals],[Total]]","v":0}]
[null,null,null,{"$f":"Table21519231519273943[[#This Row],[Quantity]]*Table21519231519273943[[#This Row],[Item Cost]]","v":0},null,"Personnel",{"$f":"Table51822261822304246[[#Totals],[Total]]","v":0}]
[null,null,null,{"$f":"Table21519231519273943[[#This Row],[Quantity]]*Table21519231519273943[[#This Row],[Item Cost]]","v":0},null,"Total",{"$f":"SUM(G19:G22)","v":0}]
[null,null,null,{"$f":"Table21519231519273943[[#This Row],[Quantity]]*Table21519231519273943[[#This Row],[Item Cost]]","v":0}]
[null,null,null,{"$f":"Table21519231519273943[[#This Row],[Quantity]]*Table21519231519273943[[#This Row],[Item Cost]]","v":0}]
[null,null,null,{"$f":"Table21519231519273943[[#This Row],[Quantity]]*Table21519231519273943[[#This Row],[Item Cost]]","v":0}]
[null,null,null,{"$f":"Table21519231519273943[[#This Row],[Quantity]]*Table21519231519273943[[#This Row],[Item Cost]]","v":0}]
["Total",null,null,{"$f":"SUBTOTAL(109,Table21519231519273943[Total])","v":0}]
["Equipment Detail","Quantity","Item Cost","Total"]
[null,null,null,{"$f":"Table31620241620284044[[#This Row],[Quantity]]*Table31620241620284044[[#This Row],[Item Cost]]","v":0}]
[null,null,null,{"$f":"Table31620241620284044[[#This Row],[Quantity]]*Table31620241620284044[[#This Row],[Item Cost]]","v":0}]
[null,null,null,{"$f":"Table31620241620284044[[#This Row],[Quantity]]*Table31620241620284044[[#This Row],[Item Cost]]","v":0}]
[null,null,null,{"$f":"Table31620241620284044[[#This Row],[Quantity]]*Table31620241620284044[[#This Row],[Item Cost]]","v":0}]
[null,null,null,{"$f":"Table31620241620284044[[#This Row],[Quantity]]*Table31620241620284044[[#This Row],[Item Cost]]","v":0}]
[null,null,null,{"$f":"Table31620241620284044[[#This Row],[Quantity]]*Table31620241620284044[[#This Row],[Item Cost]]","v":0}]
[null,null,null,{"$f":"Table31620241620284044[[#This Row],[Quantity]]*Table31620241620284044[[#This Row],[Item Cost]]","v":0}]
[null,null,null,{"$f":"Table31620241620284044[[#This Row],[Quantity]]*Table31620241620284044[[#This Row],[Item Cost]]","v":0}]
[null,null,null,{"$f":"Table31620241620284044[[#This Row],[Quantity]]*Table31620241620284044[[#This Row],[Item Cost]]","v":0}]
[null,null,null,{"$f":"Table31620241620284044[[#This Row],[Quantity]]*Table31620241620284044[[#This Row],[Item Cost]]","v":0}]
["Total",null,null,{"$f":"SUBTOTAL(109,Table31620241620284044[Total])","v":0}]
["Supply Detail","Quantity","Item Cost","Total"]
[null,null,null,{"$f":"Table41721251721294145[[#This Row],[Quantity]]*Table41721251721294145[[#This Row],[Item Cost]]","v":0}]
[null,null,null,{"$f":"Table41721251721294145[[#This Row],[Quantity]]*Table41721251721294145[[#This Row],[Item Cost]]","v":0}]
[null,null,null,{"$f":"Table41721251721294145[[#This Row],[Quantity]]*Table41721251721294145[[#This Row],[Item Cost]]","v":0}]
[null,null,null,{"$f":"Table41721251721294145[[#This Row],[Quantity]]*Table41721251721294145[[#This Row],[Item Cost]]","v":0}]
[null,null,null,{"$f":"Table41721251721294145[[#This Row],[Quantity]]*Table41721251721294145[[#This Row],[Item Cost]]","v":0}]
[null,null,null,{"$f":"Table41721251721294145[[#This Row],[Quantity]]*Table41721251721294145[[#This Row],[Item Cost]]","v":0}]
[null,null,null,{"$f":"Table41721251721294145[[#This Row],[Quantity]]*Table41721251721294145[[#This Row],[Item Cost]]","v":0}]
[null,null,null,{"$f":"Table41721251721294145[[#This Row],[Quantity]]*Table41721251721294145[[#This Row],[Item Cost]]","v":0}]
[null,null,null,{"$f":"Table41721251721294145[[#This Row],[Quantity]]*Table41721251721294145[[#This Row],[Item Cost]]","v":0}]
[null,null,null,{"$f":"Table41721251721294145[[#This Row],[Quantity]]*Table41721251721294145[[#This Row],[Item Cost]]","v":0}]
[null,null,null,{"$f":"Table41721251721294145[[#This Row],[Quantity]]*Table41721251721294145[[#This Row],[Item Cost]]","v":0}]
["Total",null,null,{"$f":"SUBTOTAL(109,Table41721251721294145[Total])","v":0}]
["Personnel Detail","Hours","Wage + Benefits","Total"]
[null,null,null,{"$f":"Table51822261822304246[[#This Row],[Hours]]*Table51822261822304246[[#This Row],[Wage + Benefits]]","v":0}]
[null,null,null,{"$f":"Table51822261822304246[[#This Row],[Hours]]*Table51822261822304246[[#This Row],[Wage + Benefits]]","v":0}]
[null,null,null,{"$f":"Table51822261822304246[[#This Row],[Hours]]*Table51822261822304246[[#This Row],[Wage + Benefits]]","v":0}]
[null,null,null,{"$f":"Table51822261822304246[[#This Row],[Hours]]*Table51822261822304246[[#This Row],[Wage + Benefits]]","v":0}]
[null,null,null,{"$f":"Table51822261822304246[[#This Row],[Hours]]*Table51822261822304246[[#This Row],[Wage + Benefits]]","v":0}]
[null,null,null,{"$f":"Table51822261822304246[[#This Row],[Hours]]*Table51822261822304246[[#This Row],[Wage + Benefits]]","v":0}]
[null,null,null,{"$f":"Table51822261822304246[[#This Row],[Hours]]*Table51822261822304246[[#This Row],[Wage + Benefits]]","v":0}]
[null,null,null,{"$f":"Table51822261822304246[[#This Row],[Hours]]*Table51822261822304246[[#This Row],[Wage + Benefits]]","v":0}]
[null,null,null,{"$f":"Table51822261822304246[[#This Row],[Hours]]*Table51822261822304246[[#This Row],[Wage + Benefits]]","v":0}]
[null,null,null,{"$f":"Table51822261822304246[[#This Row],[Hours]]*Table51822261822304246[[#This Row],[Wage + Benefits]]","v":0}]
[null,null,null,{"$f":"Table51822261822304246[[#This Row],[Hours]]*Table51822261822304246[[#This Row],[Wage + Benefits]]","v":0}]
["Total",null,null,{"$f":"SUBTOTAL(109,Table51822261822304246[Total])","v":0}]

{"sheet":"Pantry 8","index":12,"n_rows":66,"n_cols":7,"rows_kept":66,"cut":false,"hidden":false,"merged":[[13,1,13,3],[1,1,1,3],[2,1,2,3],[8,1,8,2],[10,2,10,3],[12,1,12,3]]}
["Pantry Details"]
["Pantry Name:","Pantry 8"]
["Street Address:"]
["City:",null,null,"State: ","WI","Zip:"]
["Contact"]
["First Name:",null,null,"Last Name:"]
["Phone:",null,null,"Email:"]
["Demographics"]
["County (location of Pantry):"]
["Counties Served:"]
["Annual Households served:"]
["Annual Pounds of Food Distributed:"]
["Partnerships:"]
["Tribal Connections:"]
["Budget","Tab before total row to add rows, as needed"]
["Travel Detail","Quantity","Item Cost","Total"]
[null,null,null,{"$f":"Table2151923151927394347[[#This Row],[Quantity]]*Table2151923151927394347[[#This Row],[Item Cost]]","v":0}]
[null,null,null,{"$f":"Table2151923151927394347[[#This Row],[Quantity]]*Table2151923151927394347[[#This Row],[Item Cost]]","v":0},null,"Budget Summary"]
[null,null,null,{"$f":"Table2151923151927394347[[#This Row],[Quantity]]*Table2151923151927394347[[#This Row],[Item Cost]]","v":0},null,"Travel",{"$f":"Table2151923151927394347[[#Totals],[Total]]","v":0}]
[null,null,null,{"$f":"Table2151923151927394347[[#This Row],[Quantity]]*Table2151923151927394347[[#This Row],[Item Cost]]","v":0},null,"Equipment",{"$f":"Table3162024162028404448[[#Totals],[Total]]","v":0}]
[null,null,null,{"$f":"Table2151923151927394347[[#This Row],[Quantity]]*Table2151923151927394347[[#This Row],[Item Cost]]","v":0},null,"Supplies",{"$f":"Table4172125172129414549[[#Totals],[Total]]","v":0}]
[null,null,null,{"$f":"Table2151923151927394347[[#This Row],[Quantity]]*Table2151923151927394347[[#This Row],[Item Cost]]","v":0},null,"Personnel",{"$f":"Table5182226182230424650[[#Totals],[Total]]","v":0}]
[null,null,null,{"$f":"Table2151923151927394347[[#This Row],[Quantity]]*Table2151923151927394347[[#This Row],[Item Cost]]","v":0},null,"Total",{"$f":"SUM(G19:G22)","v":0}]
[null,null,null,{"$f":"Table2151923151927394347[[#This Row],[Quantity]]*Table2151923151927394347[[#This Row],[Item Cost]]","v":0}]
[null,null,null,{"$f":"Table2151923151927394347[[#This Row],[Quantity]]*Table2151923151927394347[[#This Row],[Item Cost]]","v":0}]
[null,null,null,{"$f":"Table2151923151927394347[[#This Row],[Quantity]]*Table2151923151927394347[[#This Row],[Item Cost]]","v":0}]
[null,null,null,{"$f":"Table2151923151927394347[[#This Row],[Quantity]]*Table2151923151927394347[[#This Row],[Item Cost]]","v":0}]
["Total",null,null,{"$f":"SUBTOTAL(109,Table2151923151927394347[Total])","v":0}]
["Equipment Detail","Quantity","Item Cost","Total"]
[null,null,null,{"$f":"Table3162024162028404448[[#This Row],[Quantity]]*Table3162024162028404448[[#This Row],[Item Cost]]","v":0}]
[null,null,null,{"$f":"Table3162024162028404448[[#This Row],[Quantity]]*Table3162024162028404448[[#This Row],[Item Cost]]","v":0}]
[null,null,null,{"$f":"Table3162024162028404448[[#This Row],[Quantity]]*Table3162024162028404448[[#This Row],[Item Cost]]","v":0}]
[null,null,null,{"$f":"Table3162024162028404448[[#This Row],[Quantity]]*Table3162024162028404448[[#This Row],[Item Cost]]","v":0}]
[null,null,null,{"$f":"Table3162024162028404448[[#This Row],[Quantity]]*Table3162024162028404448[[#This Row],[Item Cost]]","v":0}]
[null,null,null,{"$f":"Table3162024162028404448[[#This Row],[Quantity]]*Table3162024162028404448[[#This Row],[Item Cost]]","v":0}]
[null,null,null,{"$f":"Table3162024162028404448[[#This Row],[Quantity]]*Table3162024162028404448[[#This Row],[Item Cost]]","v":0}]
[null,null,null,{"$f":"Table3162024162028404448[[#This Row],[Quantity]]*Table3162024162028404448[[#This Row],[Item Cost]]","v":0}]
[null,null,null,{"$f":"Table3162024162028404448[[#This Row],[Quantity]]*Table3162024162028404448[[#This Row],[Item Cost]]","v":0}]
[null,null,null,{"$f":"Table3162024162028404448[[#This Row],[Quantity]]*Table3162024162028404448[[#This Row],[Item Cost]]","v":0}]
["Total",null,null,{"$f":"SUBTOTAL(109,Table3162024162028404448[Total])","v":0}]
["Supply Detail","Quantity","Item Cost","Total"]
[null,null,null,{"$f":"Table4172125172129414549[[#This Row],[Quantity]]*Table4172125172129414549[[#This Row],[Item Cost]]","v":0}]
[null,null,null,{"$f":"Table4172125172129414549[[#This Row],[Quantity]]*Table4172125172129414549[[#This Row],[Item Cost]]","v":0}]
[null,null,null,{"$f":"Table4172125172129414549[[#This Row],[Quantity]]*Table4172125172129414549[[#This Row],[Item Cost]]","v":0}]
[null,null,null,{"$f":"Table4172125172129414549[[#This Row],[Quantity]]*Table4172125172129414549[[#This Row],[Item Cost]]","v":0}]
[null,null,null,{"$f":"Table4172125172129414549[[#This Row],[Quantity]]*Table4172125172129414549[[#This Row],[Item Cost]]","v":0}]
[null,null,null,{"$f":"Table4172125172129414549[[#This Row],[Quantity]]*Table4172125172129414549[[#This Row],[Item Cost]]","v":0}]
[null,null,null,{"$f":"Table4172125172129414549[[#This Row],[Quantity]]*Table4172125172129414549[[#This Row],[Item Cost]]","v":0}]
[null,null,null,{"$f":"Table4172125172129414549[[#This Row],[Quantity]]*Table4172125172129414549[[#This Row],[Item Cost]]","v":0}]
[null,null,null,{"$f":"Table4172125172129414549[[#This Row],[Quantity]]*Table4172125172129414549[[#This Row],[Item Cost]]","v":0}]
[null,null,null,{"$f":"Table4172125172129414549[[#This Row],[Quantity]]*Table4172125172129414549[[#This Row],[Item Cost]]","v":0}]
[null,null,null,{"$f":"Table4172125172129414549[[#This Row],[Quantity]]*Table4172125172129414549[[#This Row],[Item Cost]]","v":0}]
["Total",null,null,{"$f":"SUBTOTAL(109,Table4172125172129414549[Total])","v":0}]
["Personnel Detail","Hours","Wage + Benefits","Total"]
[null,null,null,{"$f":"Table5182226182230424650[[#This Row],[Hours]]*Table5182226182230424650[[#This Row],[Wage + Benefits]]","v":0}]
[null,null,null,{"$f":"Table5182226182230424650[[#This Row],[Hours]]*Table5182226182230424650[[#This Row],[Wage + Benefits]]","v":0}]
[null,null,null,{"$f":"Table5182226182230424650[[#This Row],[Hours]]*Table5182226182230424650[[#This Row],[Wage + Benefits]]","v":0}]
[null,null,null,{"$f":"Table5182226182230424650[[#This Row],[Hours]]*Table5182226182230424650[[#This Row],[Wage + Benefits]]","v":0}]
[null,null,null,{"$f":"Table5182226182230424650[[#This Row],[Hours]]*Table5182226182230424650[[#This Row],[Wage + Benefits]]","v":0}]
[null,null,null,{"$f":"Table5182226182230424650[[#This Row],[Hours]]*Table5182226182230424650[[#This Row],[Wage + Benefits]]","v":0}]
[null,null,null,{"$f":"Table5182226182230424650[[#This Row],[Hours]]*Table5182226182230424650[[#This Row],[Wage + Benefits]]","v":0}]
[null,null,null,{"$f":"Table5182226182230424650[[#This Row],[Hours]]*Table5182226182230424650[[#This Row],[Wage + Benefits]]","v":0}]
[null,null,null,{"$f":"Table5182226182230424650[[#This Row],[Hours]]*Table5182226182230424650[[#This Row],[Wage + Benefits]]","v":0}]
[null,null,null,{"$f":"Table5182226182230424650[[#This Row],[Hours]]*Table5182226182230424650[[#This Row],[Wage + Benefits]]","v":0}]
[null,null,null,{"$f":"Table5182226182230424650[[#This Row],[Hours]]*Table5182226182230424650[[#This Row],[Wage + Benefits]]","v":0}]
["Total",null,null,{"$f":"SUBTOTAL(109,Table5182226182230424650[Total])","v":0}]

{"sheet":"Pantry 9","index":13,"n_rows":66,"n_cols":7,"rows_kept":66,"cut":false,"hidden":false,"merged":[[13,1,13,3],[1,1,1,3],[2,1,2,3],[8,1,8,2],[10,2,10,3],[12,1,12,3]]}
["Pantry Details"]
["Pantry Name:","Pantry 9"]
["Street Address:"]
["City:",null,null,"State: ","WI","Zip:"]
["Contact"]
["First Name:",null,null,"Last Name:"]
["Phone:",null,null,"Email:"]
["Demographics"]
["County (location of Pantry):"]
["Counties Served:"]
["Annual Households served:"]
["Annual Pounds of Food Distributed:"]
["Partnerships:"]
["Tribal Connections:"]
["Budget","Tab before total row to add rows, as needed"]
["Travel Detail","Quantity","Item Cost","Total"]
[null,null,null,{"$f":"Table215192315192739434751[[#This Row],[Quantity]]*Table215192315192739434751[[#This Row],[Item Cost]]","v":0}]
[null,null,null,{"$f":"Table215192315192739434751[[#This Row],[Quantity]]*Table215192315192739434751[[#This Row],[Item Cost]]","v":0},null,"Budget Summary"]
[null,null,null,{"$f":"Table215192315192739434751[[#This Row],[Quantity]]*Table215192315192739434751[[#This Row],[Item Cost]]","v":0},null,"Travel",{"$f":"Table215192315192739434751[[#Totals],[Total]]","v":0}]
[null,null,null,{"$f":"Table215192315192739434751[[#This Row],[Quantity]]*Table215192315192739434751[[#This Row],[Item Cost]]","v":0},null,"Equipment",{"$f":"Table316202416202840444852[[#Totals],[Total]]","v":0}]
[null,null,null,{"$f":"Table215192315192739434751[[#This Row],[Quantity]]*Table215192315192739434751[[#This Row],[Item Cost]]","v":0},null,"Supplies",{"$f":"Table417212517212941454953[[#Totals],[Total]]","v":0}]
[null,null,null,{"$f":"Table215192315192739434751[[#This Row],[Quantity]]*Table215192315192739434751[[#This Row],[Item Cost]]","v":0},null,"Personnel",{"$f":"Table518222618223042465054[[#Totals],[Total]]","v":0}]
[null,null,null,{"$f":"Table215192315192739434751[[#This Row],[Quantity]]*Table215192315192739434751[[#This Row],[Item Cost]]","v":0},null,"Total",{"$f":"SUM(G19:G22)","v":0}]
[null,null,null,{"$f":"Table215192315192739434751[[#This Row],[Quantity]]*Table215192315192739434751[[#This Row],[Item Cost]]","v":0}]
[null,null,null,{"$f":"Table215192315192739434751[[#This Row],[Quantity]]*Table215192315192739434751[[#This Row],[Item Cost]]","v":0}]
[null,null,null,{"$f":"Table215192315192739434751[[#This Row],[Quantity]]*Table215192315192739434751[[#This Row],[Item Cost]]","v":0}]
[null,null,null,{"$f":"Table215192315192739434751[[#This Row],[Quantity]]*Table215192315192739434751[[#This Row],[Item Cost]]","v":0}]
["Total",null,null,{"$f":"SUBTOTAL(109,Table215192315192739434751[Total])","v":0}]
["Equipment Detail","Quantity","Item Cost","Total"]
[null,null,null,{"$f":"Table316202416202840444852[[#This Row],[Quantity]]*Table316202416202840444852[[#This Row],[Item Cost]]","v":0}]
[null,null,null,{"$f":"Table316202416202840444852[[#This Row],[Quantity]]*Table316202416202840444852[[#This Row],[Item Cost]]","v":0}]
[null,null,null,{"$f":"Table316202416202840444852[[#This Row],[Quantity]]*Table316202416202840444852[[#This Row],[Item Cost]]","v":0}]
[null,null,null,{"$f":"Table316202416202840444852[[#This Row],[Quantity]]*Table316202416202840444852[[#This Row],[Item Cost]]","v":0}]
[null,null,null,{"$f":"Table316202416202840444852[[#This Row],[Quantity]]*Table316202416202840444852[[#This Row],[Item Cost]]","v":0}]
[null,null,null,{"$f":"Table316202416202840444852[[#This Row],[Quantity]]*Table316202416202840444852[[#This Row],[Item Cost]]","v":0}]
[null,null,null,{"$f":"Table316202416202840444852[[#This Row],[Quantity]]*Table316202416202840444852[[#This Row],[Item Cost]]","v":0}]
[null,null,null,{"$f":"Table316202416202840444852[[#This Row],[Quantity]]*Table316202416202840444852[[#This Row],[Item Cost]]","v":0}]
[null,null,null,{"$f":"Table316202416202840444852[[#This Row],[Quantity]]*Table316202416202840444852[[#This Row],[Item Cost]]","v":0}]
[null,null,null,{"$f":"Table316202416202840444852[[#This Row],[Quantity]]*Table316202416202840444852[[#This Row],[Item Cost]]","v":0}]
["Total",null,null,{"$f":"SUBTOTAL(109,Table316202416202840444852[Total])","v":0}]
["Supply Detail","Quantity","Item Cost","Total"]
[null,null,null,{"$f":"Table417212517212941454953[[#This Row],[Quantity]]*Table417212517212941454953[[#This Row],[Item Cost]]","v":0}]
[null,null,null,{"$f":"Table417212517212941454953[[#This Row],[Quantity]]*Table417212517212941454953[[#This Row],[Item Cost]]","v":0}]
[null,null,null,{"$f":"Table417212517212941454953[[#This Row],[Quantity]]*Table417212517212941454953[[#This Row],[Item Cost]]","v":0}]
[null,null,null,{"$f":"Table417212517212941454953[[#This Row],[Quantity]]*Table417212517212941454953[[#This Row],[Item Cost]]","v":0}]
[null,null,null,{"$f":"Table417212517212941454953[[#This Row],[Quantity]]*Table417212517212941454953[[#This Row],[Item Cost]]","v":0}]
[null,null,null,{"$f":"Table417212517212941454953[[#This Row],[Quantity]]*Table417212517212941454953[[#This Row],[Item Cost]]","v":0}]
[null,null,null,{"$f":"Table417212517212941454953[[#This Row],[Quantity]]*Table417212517212941454953[[#This Row],[Item Cost]]","v":0}]
[null,null,null,{"$f":"Table417212517212941454953[[#This Row],[Quantity]]*Table417212517212941454953[[#This Row],[Item Cost]]","v":0}]
[null,null,null,{"$f":"Table417212517212941454953[[#This Row],[Quantity]]*Table417212517212941454953[[#This Row],[Item Cost]]","v":0}]
[null,null,null,{"$f":"Table417212517212941454953[[#This Row],[Quantity]]*Table417212517212941454953[[#This Row],[Item Cost]]","v":0}]
[null,null,null,{"$f":"Table417212517212941454953[[#This Row],[Quantity]]*Table417212517212941454953[[#This Row],[Item Cost]]","v":0}]
["Total",null,null,{"$f":"SUBTOTAL(109,Table417212517212941454953[Total])","v":0}]
["Personnel Detail","Hours","Wage + Benefits","Total"]
[null,null,null,{"$f":"Table518222618223042465054[[#This Row],[Hours]]*Table518222618223042465054[[#This Row],[Wage + Benefits]]","v":0}]
[null,null,null,{"$f":"Table518222618223042465054[[#This Row],[Hours]]*Table518222618223042465054[[#This Row],[Wage + Benefits]]","v":0}]
[null,null,null,{"$f":"Table518222618223042465054[[#This Row],[Hours]]*Table518222618223042465054[[#This Row],[Wage + Benefits]]","v":0}]
[null,null,null,{"$f":"Table518222618223042465054[[#This Row],[Hours]]*Table518222618223042465054[[#This Row],[Wage + Benefits]]","v":0}]
[null,null,null,{"$f":"Table518222618223042465054[[#This Row],[Hours]]*Table518222618223042465054[[#This Row],[Wage + Benefits]]","v":0}]
[null,null,null,{"$f":"Table518222618223042465054[[#This Row],[Hours]]*Table518222618223042465054[[#This Row],[Wage + Benefits]]","v":0}]
[null,null,null,{"$f":"Table518222618223042465054[[#This Row],[Hours]]*Table518222618223042465054[[#This Row],[Wage + Benefits]]","v":0}]
[null,null,null,{"$f":"Table518222618223042465054[[#This Row],[Hours]]*Table518222618223042465054[[#This Row],[Wage + Benefits]]","v":0}]
[null,null,null,{"$f":"Table518222618223042465054[[#This Row],[Hours]]*Table518222618223042465054[[#This Row],[Wage + Benefits]]","v":0}]
[null,null,null,{"$f":"Table518222618223042465054[[#This Row],[Hours]]*Table518222618223042465054[[#This Row],[Wage + Benefits]]","v":0}]
[null,null,null,{"$f":"Table518222618223042465054[[#This Row],[Hours]]*Table518222618223042465054[[#This Row],[Wage + Benefits]]","v":0}]
["Total",null,null,{"$f":"SUBTOTAL(109,Table518222618223042465054[Total])","v":0}]

{"sheet":"Pantry 10","index":14,"n_rows":66,"n_cols":7,"rows_kept":66,"cut":false,"hidden":false,"merged":[[13,1,13,3],[1,1,1,3],[2,1,2,3],[8,1,8,2],[10,2,10,3],[12,1,12,3]]}
["Pantry Details"]
["Pantry Name:","Pantry 10"]
["Street Address:"]
["City:",null,null,"State: ","WI","Zip:"]
["Contact"]
["First Name:",null,null,"Last Name:"]
["Phone:",null,null,"Email:"]
["Demographics"]
["County (location of Pantry):"]
["Counties Served:"]
["Annual Households served:"]
["Annual Pounds of Food Distributed:"]
["Partnerships:"]
["Tribal Connections:"]
["Budget","Tab before total row to add rows, as needed"]
["Travel Detail","Quantity","Item Cost","Total"]
[null,null,null,{"$f":"Table21519231519273943475155[[#This Row],[Quantity]]*Table21519231519273943475155[[#This Row],[Item Cost]]","v":0}]
[null,null,null,{"$f":"Table21519231519273943475155[[#This Row],[Quantity]]*Table21519231519273943475155[[#This Row],[Item Cost]]","v":0},null,"Budget Summary"]
[null,null,null,{"$f":"Table21519231519273943475155[[#This Row],[Quantity]]*Table21519231519273943475155[[#This Row],[Item Cost]]","v":0},null,"Travel",{"$f":"Table21519231519273943475155[[#Totals],[Total]]","v":0}]
[null,null,null,{"$f":"Table21519231519273943475155[[#This Row],[Quantity]]*Table21519231519273943475155[[#This Row],[Item Cost]]","v":0},null,"Equipment",{"$f":"Table31620241620284044485256[[#Totals],[Total]]","v":0}]
[null,null,null,{"$f":"Table21519231519273943475155[[#This Row],[Quantity]]*Table21519231519273943475155[[#This Row],[Item Cost]]","v":0},null,"Supplies",{"$f":"Table41721251721294145495357[[#Totals],[Total]]","v":0}]
[null,null,null,{"$f":"Table21519231519273943475155[[#This Row],[Quantity]]*Table21519231519273943475155[[#This Row],[Item Cost]]","v":0},null,"Personnel",{"$f":"Table51822261822304246505458[[#Totals],[Total]]","v":0}]
[null,null,null,{"$f":"Table21519231519273943475155[[#This Row],[Quantity]]*Table21519231519273943475155[[#This Row],[Item Cost]]","v":0},null,"Total",{"$f":"SUM(G19:G22)","v":0}]
[null,null,null,{"$f":"Table21519231519273943475155[[#This Row],[Quantity]]*Table21519231519273943475155[[#This Row],[Item Cost]]","v":0}]
[null,null,null,{"$f":"Table21519231519273943475155[[#This Row],[Quantity]]*Table21519231519273943475155[[#This Row],[Item Cost]]","v":0}]
[null,null,null,{"$f":"Table21519231519273943475155[[#This Row],[Quantity]]*Table21519231519273943475155[[#This Row],[Item Cost]]","v":0}]
[null,null,null,{"$f":"Table21519231519273943475155[[#This Row],[Quantity]]*Table21519231519273943475155[[#This Row],[Item Cost]]","v":0}]
["Total",null,null,{"$f":"SUBTOTAL(109,Table21519231519273943475155[Total])","v":0}]
["Equipment Detail","Quantity","Item Cost","Total"]
[null,null,null,{"$f":"Table31620241620284044485256[[#This Row],[Quantity]]*Table31620241620284044485256[[#This Row],[Item Cost]]","v":0}]
[null,null,null,{"$f":"Table31620241620284044485256[[#This Row],[Quantity]]*Table31620241620284044485256[[#This Row],[Item Cost]]","v":0}]
[null,null,null,{"$f":"Table31620241620284044485256[[#This Row],[Quantity]]*Table31620241620284044485256[[#This Row],[Item Cost]]","v":0}]
[null,null,null,{"$f":"Table31620241620284044485256[[#This Row],[Quantity]]*Table31620241620284044485256[[#This Row],[Item Cost]]","v":0}]
[null,null,null,{"$f":"Table31620241620284044485256[[#This Row],[Quantity]]*Table31620241620284044485256[[#This Row],[Item Cost]]","v":0}]
[null,null,null,{"$f":"Table31620241620284044485256[[#This Row],[Quantity]]*Table31620241620284044485256[[#This Row],[Item Cost]]","v":0}]
[null,null,null,{"$f":"Table31620241620284044485256[[#This Row],[Quantity]]*Table31620241620284044485256[[#This Row],[Item Cost]]","v":0}]
[null,null,null,{"$f":"Table31620241620284044485256[[#This Row],[Quantity]]*Table31620241620284044485256[[#This Row],[Item Cost]]","v":0}]
[null,null,null,{"$f":"Table31620241620284044485256[[#This Row],[Quantity]]*Table31620241620284044485256[[#This Row],[Item Cost]]","v":0}]
[null,null,null,{"$f":"Table31620241620284044485256[[#This Row],[Quantity]]*Table31620241620284044485256[[#This Row],[Item Cost]]","v":0}]
["Total",null,null,{"$f":"SUBTOTAL(109,Table31620241620284044485256[Total])","v":0}]
["Supply Detail","Quantity","Item Cost","Total"]
[null,null,null,{"$f":"Table41721251721294145495357[[#This Row],[Quantity]]*Table41721251721294145495357[[#This Row],[Item Cost]]","v":0}]
[null,null,null,{"$f":"Table41721251721294145495357[[#This Row],[Quantity]]*Table41721251721294145495357[[#This Row],[Item Cost]]","v":0}]
[null,null,null,{"$f":"Table41721251721294145495357[[#This Row],[Quantity]]*Table41721251721294145495357[[#This Row],[Item Cost]]","v":0}]
[null,null,null,{"$f":"Table41721251721294145495357[[#This Row],[Quantity]]*Table41721251721294145495357[[#This Row],[Item Cost]]","v":0}]
[null,null,null,{"$f":"Table41721251721294145495357[[#This Row],[Quantity]]*Table41721251721294145495357[[#This Row],[Item Cost]]","v":0}]
[null,null,null,{"$f":"Table41721251721294145495357[[#This Row],[Quantity]]*Table41721251721294145495357[[#This Row],[Item Cost]]","v":0}]
[null,null,null,{"$f":"Table41721251721294145495357[[#This Row],[Quantity]]*Table41721251721294145495357[[#This Row],[Item Cost]]","v":0}]
[null,null,null,{"$f":"Table41721251721294145495357[[#This Row],[Quantity]]*Table41721251721294145495357[[#This Row],[Item Cost]]","v":0}]
[null,null,null,{"$f":"Table41721251721294145495357[[#This Row],[Quantity]]*Table41721251721294145495357[[#This Row],[Item Cost]]","v":0}]
[null,null,null,{"$f":"Table41721251721294145495357[[#This Row],[Quantity]]*Table41721251721294145495357[[#This Row],[Item Cost]]","v":0}]
[null,null,null,{"$f":"Table41721251721294145495357[[#This Row],[Quantity]]*Table41721251721294145495357[[#This Row],[Item Cost]]","v":0}]
["Total",null,null,{"$f":"SUBTOTAL(109,Table41721251721294145495357[Total])","v":0}]
["Personnel Detail","Hours","Wage + Benefits","Total"]
[null,null,null,{"$f":"Table51822261822304246505458[[#This Row],[Hours]]*Table51822261822304246505458[[#This Row],[Wage + Benefits]]","v":0}]
[null,null,null,{"$f":"Table51822261822304246505458[[#This Row],[Hours]]*Table51822261822304246505458[[#This Row],[Wage + Benefits]]","v":0}]
[null,null,null,{"$f":"Table51822261822304246505458[[#This Row],[Hours]]*Table51822261822304246505458[[#This Row],[Wage + Benefits]]","v":0}]
[null,null,null,{"$f":"Table51822261822304246505458[[#This Row],[Hours]]*Table51822261822304246505458[[#This Row],[Wage + Benefits]]","v":0}]
[null,null,null,{"$f":"Table51822261822304246505458[[#This Row],[Hours]]*Table51822261822304246505458[[#This Row],[Wage + Benefits]]","v":0}]
[null,null,null,{"$f":"Table51822261822304246505458[[#This Row],[Hours]]*Table51822261822304246505458[[#This Row],[Wage + Benefits]]","v":0}]
[null,null,null,{"$f":"Table51822261822304246505458[[#This Row],[Hours]]*Table51822261822304246505458[[#This Row],[Wage + Benefits]]","v":0}]
[null,null,null,{"$f":"Table51822261822304246505458[[#This Row],[Hours]]*Table51822261822304246505458[[#This Row],[Wage + Benefits]]","v":0}]
[null,null,null,{"$f":"Table51822261822304246505458[[#This Row],[Hours]]*Table51822261822304246505458[[#This Row],[Wage + Benefits]]","v":0}]
[null,null,null,{"$f":"Table51822261822304246505458[[#This Row],[Hours]]*Table51822261822304246505458[[#This Row],[Wage + Benefits]]","v":0}]
[null,null,null,{"$f":"Table51822261822304246505458[[#This Row],[Hours]]*Table51822261822304246505458[[#This Row],[Wage + Benefits]]","v":0}]
["Total",null,null,{"$f":"SUBTOTAL(109,Table51822261822304246505458[Total])","v":0}]

{"sheet":"END","index":15,"n_rows":65,"n_cols":7,"rows_kept":65,"cut":false,"hidden":true,"merged":[[1,1,1,3],[2,1,2,3],[9,2,9,3],[11,1,11,3],[12,1,12,3]]}
["Pantry Details"]
["Pantry Name:","END"]
["Street Address:"]
["City:",null,null,"State: ","WI","Zip:"]
["Contact"]
["First Name:",null,null,"Last Name:"]
["Phone:",null,null,"Email:"]
["Demographics"]
["County:"]
["Annual Households served:"]
["Annual Pounds of Food Distributed:"]
["Partnerships:"]
["Tribal Connections:"]
["Budget","Tab before total row to add rows, as needed"]
["Travel Detail","Quantity","Item Cost","Total"]
[null,null,null,{"$f":"Table21519233135[[#This Row],[Quantity]]*Table21519233135[[#This Row],[Item Cost]]","v":0},null,"Budget Summary"]
[null,null,null,{"$f":"Table21519233135[[#This Row],[Quantity]]*Table21519233135[[#This Row],[Item Cost]]","v":0},null,"Travel",{"$f":"Table21519233135[[#Totals],[Total]]","v":0}]
[null,null,null,{"$f":"Table21519233135[[#This Row],[Quantity]]*Table21519233135[[#This Row],[Item Cost]]","v":0},null,"Equipment",{"$f":"Table31620243236[[#Totals],[Total]]","v":0}]
[null,null,null,{"$f":"Table21519233135[[#This Row],[Quantity]]*Table21519233135[[#This Row],[Item Cost]]","v":0},null,"Supplies",{"$f":"Table41721253337[[#Totals],[Total]]","v":0}]
[null,null,null,{"$f":"Table21519233135[[#This Row],[Quantity]]*Table21519233135[[#This Row],[Item Cost]]","v":0},null,"Personnel",{"$f":"Table51822263438[[#Totals],[Total]]","v":0}]
[null,null,null,{"$f":"Table21519233135[[#This Row],[Quantity]]*Table21519233135[[#This Row],[Item Cost]]","v":0},null,"Total",{"$f":"SUM(G17:G20)","v":0}]
[null,null,null,{"$f":"Table21519233135[[#This Row],[Quantity]]*Table21519233135[[#This Row],[Item Cost]]","v":0}]
[null,null,null,{"$f":"Table21519233135[[#This Row],[Quantity]]*Table21519233135[[#This Row],[Item Cost]]","v":0}]
[null,null,null,{"$f":"Table21519233135[[#This Row],[Quantity]]*Table21519233135[[#This Row],[Item Cost]]","v":0}]
[null,null,null,{"$f":"Table21519233135[[#This Row],[Quantity]]*Table21519233135[[#This Row],[Item Cost]]","v":0}]
[null,null,null,{"$f":"Table21519233135[[#This Row],[Quantity]]*Table21519233135[[#This Row],[Item Cost]]","v":0}]
["Total",null,null,{"$f":"SUBTOTAL(109,Table21519233135[Total])","v":0}]
["Equipment Detail","Quantity","Item Cost","Total"]
[null,null,null,{"$f":"Table31620243236[[#This Row],[Quantity]]*Table31620243236[[#This Row],[Item Cost]]","v":0}]
[null,null,null,{"$f":"Table31620243236[[#This Row],[Quantity]]*Table31620243236[[#This Row],[Item Cost]]","v":0}]
[null,null,null,{"$f":"Table31620243236[[#This Row],[Quantity]]*Table31620243236[[#This Row],[Item Cost]]","v":0}]
[null,null,null,{"$f":"Table31620243236[[#This Row],[Quantity]]*Table31620243236[[#This Row],[Item Cost]]","v":0}]
[null,null,null,{"$f":"Table31620243236[[#This Row],[Quantity]]*Table31620243236[[#This Row],[Item Cost]]","v":0}]
[null,null,null,{"$f":"Table31620243236[[#This Row],[Quantity]]*Table31620243236[[#This Row],[Item Cost]]","v":0}]
[null,null,null,{"$f":"Table31620243236[[#This Row],[Quantity]]*Table31620243236[[#This Row],[Item Cost]]","v":0}]
[null,null,null,{"$f":"Table31620243236[[#This Row],[Quantity]]*Table31620243236[[#This Row],[Item Cost]]","v":0}]
[null,null,null,{"$f":"Table31620243236[[#This Row],[Quantity]]*Table31620243236[[#This Row],[Item Cost]]","v":0}]
[null,null,null,{"$f":"Table31620243236[[#This Row],[Quantity]]*Table31620243236[[#This Row],[Item Cost]]","v":0}]
["Total",null,null,{"$f":"SUBTOTAL(109,Table31620243236[Total])","v":0}]
["Supply Detail","Quantity","Item Cost","Total"]
[null,null,null,{"$f":"Table41721253337[[#This Row],[Quantity]]*Table41721253337[[#This Row],[Item Cost]]","v":0}]
[null,null,null,{"$f":"Table41721253337[[#This Row],[Quantity]]*Table41721253337[[#This Row],[Item Cost]]","v":0}]
[null,null,null,{"$f":"Table41721253337[[#This Row],[Quantity]]*Table41721253337[[#This Row],[Item Cost]]","v":0}]
[null,null,null,{"$f":"Table41721253337[[#This Row],[Quantity]]*Table41721253337[[#This Row],[Item Cost]]","v":0}]
[null,null,null,{"$f":"Table41721253337[[#This Row],[Quantity]]*Table41721253337[[#This Row],[Item Cost]]","v":0}]
[null,null,null,{"$f":"Table41721253337[[#This Row],[Quantity]]*Table41721253337[[#This Row],[Item Cost]]","v":0}]
[null,null,null,{"$f":"Table41721253337[[#This Row],[Quantity]]*Table41721253337[[#This Row],[Item Cost]]","v":0}]
[null,null,null,{"$f":"Table41721253337[[#This Row],[Quantity]]*Table41721253337[[#This Row],[Item Cost]]","v":0}]
[null,null,null,{"$f":"Table41721253337[[#This Row],[Quantity]]*Table41721253337[[#This Row],[Item Cost]]","v":0}]
[null,null,null,{"$f":"Table41721253337[[#This Row],[Quantity]]*Table41721253337[[#This Row],[Item Cost]]","v":0}]
[null,null,null,{"$f":"Table41721253337[[#This Row],[Quantity]]*Table41721253337[[#This Row],[Item Cost]]","v":0}]
["Total",null,null,{"$f":"SUBTOTAL(109,Table41721253337[Total])","v":0}]
["Personnel Detail","Hours","Wage + Benefits","Total"]
[null,null,null,{"$f":"Table51822263438[[#This Row],[Hours]]*Table51822263438[[#This Row],[Wage + Benefits]]","v":0}]
[null,null,null,{"$f":"Table51822263438[[#This Row],[Hours]]*Table51822263438[[#This Row],[Wage + Benefits]]","v":0}]
[null,null,null,{"$f":"Table51822263438[[#This Row],[Hours]]*Table51822263438[[#This Row],[Wage + Benefits]]","v":0}]
[null,null,null,{"$f":"Table51822263438[[#This Row],[Hours]]*Table51822263438[[#This Row],[Wage + Benefits]]","v":0}]
[null,null,null,{"$f":"Table51822263438[[#This Row],[Hours]]*Table51822263438[[#This Row],[Wage + Benefits]]","v":0}]
[null,null,null,{"$f":"Table51822263438[[#This Row],[Hours]]*Table51822263438[[#This Row],[Wage + Benefits]]","v":0}]
[null,null,null,{"$f":"Table51822263438[[#This Row],[Hours]]*Table51822263438[[#This Row],[Wage + Benefits]]","v":0}]
[null,null,null,{"$f":"Table51822263438[[#This Row],[Hours]]*Table51822263438[[#This Row],[Wage + Benefits]]","v":0}]
[null,null,null,{"$f":"Table51822263438[[#This Row],[Hours]]*Table51822263438[[#This Row],[Wage + Benefits]]","v":0}]
[null,null,null,{"$f":"Table51822263438[[#This Row],[Hours]]*Table51822263438[[#This Row],[Wage + Benefits]]","v":0}]
[null,null,null,{"$f":"Table51822263438[[#This Row],[Hours]]*Table51822263438[[#This Row],[Wage + Benefits]]","v":0}]
["Total",null,null,{"$f":"SUBTOTAL(109,Table51822263438[Total])","v":0}]